{"text_format":"1","workbook":"xlsx","n_sheets":2,"sheets":["Kalender","Daten"],"not_rendered":{"charts":0,"images":1,"macros":1,"external_links":0,"defined_names":1,"comments":1,"pivot_tables":0},"unopened":[],"bounds":{"document_bytes":16777216,"sheet_cells":100000,"rows_first":2000,"rows_last":500,"rows_between":2000,"halvings":0,"cell_chars":16384,"cell_head_chars":4096},"cells_cut":0,"cells_raw":0,"read":"whole","date_system":"1900"}

{"sheet":"Kalender","index":0,"n_rows":66,"n_cols":22,"rows_kept":66,"cut":false,"hidden":false,"merged":[[65,12,65,14],[65,15,65,17],[65,0,65,2],[65,3,65,5],[65,6,65,8],[65,9,65,11],[0,0,0,2],[0,3,0,5],[33,0,33,2],[33,3,33,5],[32,0,32,2],[32,3,32,5],[13,20,14,22],[24,19,42,23],[33,6,33,8],[33,9,33,11],[0,6,0,8],[0,9,0,11],[32,6,32,8],[32,9,32,11],[0,12,0,14],[0,15,0,17],[33,12,33,14],[33,15,33,17],[32,12,32,14],[32,15,32,17]]}
[{"$f":"DATE(Daten!$B$1,1,1)","v":"2026-01-01"},null,null,{"$f":"DATE(Daten!$B$1,2,1)","v":"2026-02-01"},null,null,{"$f":"DATE(Daten!$B$1,3,1)","v":"2026-03-01"},null,null,{"$f":"DATE(Daten!$B$1,4,1)","v":"2026-04-01"},null,null,{"$f":"DATE(Daten!$B$1,5,1)","v":"2026-05-01"},null,null,{"$f":"DATE(Daten!$B$1,6,1)","v":"2026-06-01"}]
[1,{"$f":"CHOOSE(WEEKDAY(DATE(Daten!$B$1,1,Kalender!A2)),\"So\",\"Mo\",\"Di\",\"Mi\",\"Do\",\"Fr\",\"Sa\")","v":"Do"},"Neujahr",1,{"$f":"CHOOSE(WEEKDAY(DATE(Daten!$B$1,2,Kalender!D2)),\"So\",\"Mo\",\"Di\",\"Mi\",\"Do\",\"Fr\",\"Sa\")","v":"So"},null,1,{"$f":"CHOOSE(WEEKDAY(DATE(Daten!$B$1,3,Kalender!G2)),\"So\",\"Mo\",\"Di\",\"Mi\",\"Do\",\"Fr\",\"Sa\")","v":"So"},null,1,{"$f":"CHOOSE(WEEKDAY(DATE(Daten!$B$1,4,Kalender!J2)),\"So\",\"Mo\",\"Di\",\"Mi\",\"Do\",\"Fr\",\"Sa\")","v":"Mi"},null,1,{"$f":"CHOOSE(WEEKDAY(DATE(Daten!$B$1,5,Kalender!M2)),\"So\",\"Mo\",\"Di\",\"Mi\",\"Do\",\"Fr\",\"Sa\")","v":"Fr"},"Maifeiertag",1,{"$f":"CHOOSE(WEEKDAY(DATE(Daten!$B$1,6,Kalender!P2)),\"So\",\"Mo\",\"Di\",\"Mi\",\"Do\",\"Fr\",\"Sa\")","v":"Mo"},"KW23"]
[2,{"$f":"CHOOSE(WEEKDAY(DATE(Daten!$B$1,1,Kalender!A3)),\"So\",\"Mo\",\"Di\",\"Mi\",\"Do\",\"Fr\",\"Sa\")","v":"Fr"},null,2,{"$f":"CHOOSE(WEEKDAY(DATE(Daten!$B$1,2,Kalender!D3)),\"So\",\"Mo\",\"Di\",\"Mi\",\"Do\",\"Fr\",\"Sa\")","v":"Mo"},"KW6",2,{"$f":"CHOOSE(WEEKDAY(DATE(Daten!$B$1,3,Kalender!G3)),\"So\",\"Mo\",\"Di\",\"Mi\",\"Do\",\"Fr\",\"Sa\")","v":"Mo"},"KW10",2,{"$f":"CHOOSE(WEEKDAY(DATE(Daten!$B$1,4,Kalender!J3)),\"So\",\"Mo\",\"Di\",\"Mi\",\"Do\",\"Fr\",\"Sa\")","v":"Do"},null,2,{"$f":"CHOOSE(WEEKDAY(DATE(Daten!$B$1,5,Kalender!M3)),\"So\",\"Mo\",\"Di\",\"Mi\",\"Do\",\"Fr\",\"Sa\")","v":"Sa"},null,2,{"$f":"CHOOSE(WEEKDAY(DATE(Daten!$B$1,6,Kalender!P3)),\"So\",\"Mo\",\"Di\",\"Mi\",\"Do\",\"Fr\",\"Sa\")","v":"Di"}]
[3,{"$f":"CHOOSE(WEEKDAY(DATE(Daten!$B$1,1,Kalender!A4)),\"So\",\"Mo\",\"Di\",\"Mi\",\"Do\",\"Fr\",\"Sa\")","v":"Sa"},null,3,{"$f":"CHOOSE(WEEKDAY(DATE(Daten!$B$1,2,Kalender!D4)),\"So\",\"Mo\",\"Di\",\"Mi\",\"Do\",\"Fr\",\"Sa\")","v":"Di"},null,3,{"$f":"CHOOSE(WEEKDAY(DATE(Daten!$B$1,3,Kalender!G4)),\"So\",\"Mo\",\"Di\",\"Mi\",\"Do\",\"Fr\",\"Sa\")","v":"Di"},null,3,{"$f":"CHOOSE(WEEKDAY(DATE(Daten!$B$1,4,Kalender!J4)),\"So\",\"Mo\",\"Di\",\"Mi\",\"Do\",\"Fr\",\"Sa\")","v":"Fr"},"Karfreitag",3,{"$f":"CHOOSE(WEEKDAY(DATE(Daten!$B$1,5,Kalender!M4)),\"So\",\"Mo\",\"Di\",\"Mi\",\"Do\",\"Fr\",\"Sa\")","v":"So"},"Martin B. (70)",3,{"$f":"CHOOSE(WEEKDAY(DATE(Daten!$B$1,6,Kalender!P4)),\"So\",\"Mo\",\"Di\",\"Mi\",\"Do\",\"Fr\",\"Sa\")","v":"Mi"}]
[4,{"$f":"CHOOSE(WEEKDAY(DATE(Daten!$B$1,1,Kalender!A5)),\"So\",\"Mo\",\"Di\",\"Mi\",\"Do\",\"Fr\",\"Sa\")","v":"So"},null,4,{"$f":"CHOOSE(WEEKDAY(DATE(Daten!$B$1,2,Kalender!D5)),\"So\",\"Mo\",\"Di\",\"Mi\",\"Do\",\"Fr\",\"Sa\")","v":"Mi"},null,4,{"$f":"CHOOSE(WEEKDAY(DATE(Daten!$B$1,3,Kalender!G5)),\"So\",\"Mo\",\"Di\",\"Mi\",\"Do\",\"Fr\",\"Sa\")","v":"Mi"},null,4,{"$f":"CHOOSE(WEEKDAY(DATE(Daten!$B$1,4,Kalender!J5)),\"So\",\"Mo\",\"Di\",\"Mi\",\"Do\",\"Fr\",\"Sa\")","v":"Sa"},null,4,{"$f":"CHOOSE(WEEKDAY(DATE(Daten!$B$1,5,Kalender!M5)),\"So\",\"Mo\",\"Di\",\"Mi\",\"Do\",\"Fr\",\"Sa\")","v":"Mo"},"KW19",4,{"$f":"CHOOSE(WEEKDAY(DATE(Daten!$B$1,6,Kalender!P5)),\"So\",\"Mo\",\"Di\",\"Mi\",\"Do\",\"Fr\",\"Sa\")","v":"Do"},"Fronleichnam",null,null,"= Ferien"]
[5,{"$f":"CHOOSE(WEEKDAY(DATE(Daten!$B$1,1,Kalender!A6)),\"So\",\"Mo\",\"Di\",\"Mi\",\"Do\",\"Fr\",\"Sa\")","v":"Mo"},"KW2",5,{"$f":"CHOOSE(WEEKDAY(DATE(Daten!$B$1,2,Kalender!D6)),\"So\",\"Mo\",\"Di\",\"Mi\",\"Do\",\"Fr\",\"Sa\")","v":"Do"},null,5,{"$f":"CHOOSE(WEEKDAY(DATE(Daten!$B$1,3,Kalender!G6)),\"So\",\"Mo\",\"Di\",\"Mi\",\"Do\",\"Fr\",\"Sa\")","v":"Do"},null,5,{"$f":"CHOOSE(WEEKDAY(DATE(Daten!$B$1,4,Kalender!J6)),\"So\",\"Mo\",\"Di\",\"Mi\",\"Do\",\"Fr\",\"Sa\")","v":"So"},"Ostersonntag",5,{"$f":"CHOOSE(WEEKDAY(DATE(Daten!$B$1,5,Kalender!M6)),\"So\",\"Mo\",\"Di\",\"Mi\",\"Do\",\"Fr\",\"Sa\")","v":"Di"},null,5,{"$f":"CHOOSE(WEEKDAY(DATE(Daten!$B$1,6,Kalender!P6)),\"So\",\"Mo\",\"Di\",\"Mi\",\"Do\",\"Fr\",\"Sa\")","v":"Fr"},null,null,null,"kann durch doppelklick"]
[6,{"$f":"CHOOSE(WEEKDAY(DATE(Daten!$B$1,1,Kalender!A7)),\"So\",\"Mo\",\"Di\",\"Mi\",\"Do\",\"Fr\",\"Sa\")","v":"Di"},"Heilige Drei Könige",6,{"$f":"CHOOSE(WEEKDAY(DATE(Daten!$B$1,2,Kalender!D7)),\"So\",\"Mo\",\"Di\",\"Mi\",\"Do\",\"Fr\",\"Sa\")","v":"Fr"},null,6,{"$f":"CHOOSE(WEEKDAY(DATE(Daten!$B$1,3,Kalender!G7)),\"So\",\"Mo\",\"Di\",\"Mi\",\"Do\",\"Fr\",\"Sa\")","v":"Fr"},"Marco B. (45)",6,{"$f":"CHOOSE(WEEKDAY(DATE(Daten!$B$1,4,Kalender!J7)),\"So\",\"Mo\",\"Di\",\"Mi\",\"Do\",\"Fr\",\"Sa\")","v":"Mo"},"Ostermontag, KW15",6,{"$f":"CHOOSE(WEEKDAY(DATE(Daten!$B$1,5,Kalender!M7)),\"So\",\"Mo\",\"Di\",\"Mi\",\"Do\",\"Fr\",\"Sa\")","v":"Mi"},null,6,{"$f":"CHOOSE(WEEKDAY(DATE(Daten!$B$1,6,Kalender!P7)),\"So\",\"Mo\",\"Di\",\"Mi\",\"Do\",\"Fr\",\"Sa\")","v":"Sa"},null,null,null,"ausgeführt werden!"]
[7,{"$f":"CHOOSE(WEEKDAY(DATE(Daten!$B$1,1,Kalender!A8)),\"So\",\"Mo\",\"Di\",\"Mi\",\"Do\",\"Fr\",\"Sa\")","v":"Mi"},null,7,{"$f":"CHOOSE(WEEKDAY(DATE(Daten!$B$1,2,Kalender!D8)),\"So\",\"Mo\",\"Di\",\"Mi\",\"Do\",\"Fr\",\"Sa\")","v":"Sa"},null,7,{"$f":"CHOOSE(WEEKDAY(DATE(Daten!$B$1,3,Kalender!G8)),\"So\",\"Mo\",\"Di\",\"Mi\",\"Do\",\"Fr\",\"Sa\")","v":"Sa"},null,7,{"$f":"CHOOSE(WEEKDAY(DATE(Daten!$B$1,4,Kalender!J8)),\"So\",\"Mo\",\"Di\",\"Mi\",\"Do\",\"Fr\",\"Sa\")","v":"Di"},null,7,{"$f":"CHOOSE(WEEKDAY(DATE(Daten!$B$1,5,Kalender!M8)),\"So\",\"Mo\",\"Di\",\"Mi\",\"Do\",\"Fr\",\"Sa\")","v":"Do"},null,7,{"$f":"CHOOSE(WEEKDAY(DATE(Daten!$B$1,6,Kalender!P8)),\"So\",\"Mo\",\"Di\",\"Mi\",\"Do\",\"Fr\",\"Sa\")","v":"So"}]
[8,{"$f":"CHOOSE(WEEKDAY(DATE(Daten!$B$1,1,Kalender!A9)),\"So\",\"Mo\",\"Di\",\"Mi\",\"Do\",\"Fr\",\"Sa\")","v":"Do"},null,8,{"$f":"CHOOSE(WEEKDAY(DATE(Daten!$B$1,2,Kalender!D9)),\"So\",\"Mo\",\"Di\",\"Mi\",\"Do\",\"Fr\",\"Sa\")","v":"So"},null,8,{"$f":"CHOOSE(WEEKDAY(DATE(Daten!$B$1,3,Kalender!G9)),\"So\",\"Mo\",\"Di\",\"Mi\",\"Do\",\"Fr\",\"Sa\")","v":"So"},null,8,{"$f":"CHOOSE(WEEKDAY(DATE(Daten!$B$1,4,Kalender!J9)),\"So\",\"Mo\",\"Di\",\"Mi\",\"Do\",\"Fr\",\"Sa\")","v":"Mi"},null,8,{"$f":"CHOOSE(WEEKDAY(DATE(Daten!$B$1,5,Kalender!M9)),\"So\",\"Mo\",\"Di\",\"Mi\",\"Do\",\"Fr\",\"Sa\")","v":"Fr"},null,8,{"$f":"CHOOSE(WEEKDAY(DATE(Daten!$B$1,6,Kalender!P9)),\"So\",\"Mo\",\"Di\",\"Mi\",\"Do\",\"Fr\",\"Sa\")","v":"Mo"},"KW24"]
[9,{"$f":"CHOOSE(WEEKDAY(DATE(Daten!$B$1,1,Kalender!A10)),\"So\",\"Mo\",\"Di\",\"Mi\",\"Do\",\"Fr\",\"Sa\")","v":"Fr"},null,9,{"$f":"CHOOSE(WEEKDAY(DATE(Daten!$B$1,2,Kalender!D10)),\"So\",\"Mo\",\"Di\",\"Mi\",\"Do\",\"Fr\",\"Sa\")","v":"Mo"},"KW7",9,{"$f":"CHOOSE(WEEKDAY(DATE(Daten!$B$1,3,Kalender!G10)),\"So\",\"Mo\",\"Di\",\"Mi\",\"Do\",\"Fr\",\"Sa\")","v":"Mo"},"KW11",9,{"$f":"CHOOSE(WEEKDAY(DATE(Daten!$B$1,4,Kalender!J10)),\"So\",\"Mo\",\"Di\",\"Mi\",\"Do\",\"Fr\",\"Sa\")","v":"Do"},null,9,{"$f":"CHOOSE(WEEKDAY(DATE(Daten!$B$1,5,Kalender!M10)),\"So\",\"Mo\",\"Di\",\"Mi\",\"Do\",\"Fr\",\"Sa\")","v":"Sa"},null,9,{"$f":"CHOOSE(WEEKDAY(DATE(Daten!$B$1,6,Kalender!P10)),\"So\",\"Mo\",\"Di\",\"Mi\",\"Do\",\"Fr\",\"Sa\")","v":"Di"}]
[10,{"$f":"CHOOSE(WEEKDAY(DATE(Daten!$B$1,1,Kalender!A11)),\"So\",\"Mo\",\"Di\",\"Mi\",\"Do\",\"Fr\",\"Sa\")","v":"Sa"},null,10,{"$f":"CHOOSE(WEEKDAY(DATE(Daten!$B$1,2,Kalender!D11)),\"So\",\"Mo\",\"Di\",\"Mi\",\"Do\",\"Fr\",\"Sa\")","v":"Di"},null,10,{"$f":"CHOOSE(WEEKDAY(DATE(Daten!$B$1,3,Kalender!G11)),\"So\",\"Mo\",\"Di\",\"Mi\",\"Do\",\"Fr\",\"Sa\")","v":"Di"},null,10,{"$f":"CHOOSE(WEEKDAY(DATE(Daten!$B$1,4,Kalender!J11)),\"So\",\"Mo\",\"Di\",\"Mi\",\"Do\",\"Fr\",\"Sa\")","v":"Fr"},null,10,{"$f":"CHOOSE(WEEKDAY(DATE(Daten!$B$1,5,Kalender!M11)),\"So\",\"Mo\",\"Di\",\"Mi\",\"Do\",\"Fr\",\"Sa\")","v":"So"},"Muttertag",10,{"$f":"CHOOSE(WEEKDAY(DATE(Daten!$B$1,6,Kalender!P11)),\"So\",\"Mo\",\"Di\",\"Mi\",\"Do\",\"Fr\",\"Sa\")","v":"Mi"}]
[11,{"$f":"CHOOSE(WEEKDAY(DATE(Daten!$B$1,1,Kalender!A12)),\"So\",\"Mo\",\"Di\",\"Mi\",\"Do\",\"Fr\",\"Sa\")","v":"So"},null,11,{"$f":"CHOOSE(WEEKDAY(DATE(Daten!$B$1,2,Kalender!D12)),\"So\",\"Mo\",\"Di\",\"Mi\",\"Do\",\"Fr\",\"Sa\")","v":"Mi"},null,11,{"$f":"CHOOSE(WEEKDAY(DATE(Daten!$B$1,3,Kalender!G12)),\"So\",\"Mo\",\"Di\",\"Mi\",\"Do\",\"Fr\",\"Sa\")","v":"Mi"},null,11,{"$f":"CHOOSE(WEEKDAY(DATE(Daten!$B$1,4,Kalender!J12)),\"So\",\"Mo\",\"Di\",\"Mi\",\"Do\",\"Fr\",\"Sa\")","v":"Sa"},null,11,{"$f":"CHOOSE(WEEKDAY(DATE(Daten!$B$1,5,Kalender!M12)),\"So\",\"Mo\",\"Di\",\"Mi\",\"Do\",\"Fr\",\"Sa\")","v":"Mo"},"KW20",11,{"$f":"CHOOSE(WEEKDAY(DATE(Daten!$B$1,6,Kalender!P12)),\"So\",\"Mo\",\"Di\",\"Mi\",\"Do\",\"Fr\",\"Sa\")","v":"Do"}]
[12,{"$f":"CHOOSE(WEEKDAY(DATE(Daten!$B$1,1,Kalender!A13)),\"So\",\"Mo\",\"Di\",\"Mi\",\"Do\",\"Fr\",\"Sa\")","v":"Mo"},"KW3",12,{"$f":"CHOOSE(WEEKDAY(DATE(Daten!$B$1,2,Kalender!D13)),\"So\",\"Mo\",\"Di\",\"Mi\",\"Do\",\"Fr\",\"Sa\")","v":"Do"},"Weiberfasnacht",12,{"$f":"CHOOSE(WEEKDAY(DATE(Daten!$B$1,3,Kalender!G13)),\"So\",\"Mo\",\"Di\",\"Mi\",\"Do\",\"Fr\",\"Sa\")","v":"Do"},null,12,{"$f":"CHOOSE(WEEKDAY(DATE(Daten!$B$1,4,Kalender!J13)),\"So\",\"Mo\",\"Di\",\"Mi\",\"Do\",\"Fr\",\"Sa\")","v":"So"},null,12,{"$f":"CHOOSE(WEEKDAY(DATE(Daten!$B$1,5,Kalender!M13)),\"So\",\"Mo\",\"Di\",\"Mi\",\"Do\",\"Fr\",\"Sa\")","v":"Di"},null,12,{"$f":"CHOOSE(WEEKDAY(DATE(Daten!$B$1,6,Kalender!P13)),\"So\",\"Mo\",\"Di\",\"Mi\",\"Do\",\"Fr\",\"Sa\")","v":"Fr"}]
[13,{"$f":"CHOOSE(WEEKDAY(DATE(Daten!$B$1,1,Kalender!A14)),\"So\",\"Mo\",\"Di\",\"Mi\",\"Do\",\"Fr\",\"Sa\")","v":"Di"},null,13,{"$f":"CHOOSE(WEEKDAY(DATE(Daten!$B$1,2,Kalender!D14)),\"So\",\"Mo\",\"Di\",\"Mi\",\"Do\",\"Fr\",\"Sa\")","v":"Fr"},null,13,{"$f":"CHOOSE(WEEKDAY(DATE(Daten!$B$1,3,Kalender!G14)),\"So\",\"Mo\",\"Di\",\"Mi\",\"Do\",\"Fr\",\"Sa\")","v":"Fr"},null,13,{"$f":"CHOOSE(WEEKDAY(DATE(Daten!$B$1,4,Kalender!J14)),\"So\",\"Mo\",\"Di\",\"Mi\",\"Do\",\"Fr\",\"Sa\")","v":"Mo"},"KW16",13,{"$f":"CHOOSE(WEEKDAY(DATE(Daten!$B$1,5,Kalender!M14)),\"So\",\"Mo\",\"Di\",\"Mi\",\"Do\",\"Fr\",\"Sa\")","v":"Mi"},null,13,{"$f":"CHOOSE(WEEKDAY(DATE(Daten!$B$1,6,Kalender!P14)),\"So\",\"Mo\",\"Di\",\"Mi\",\"Do\",\"Fr\",\"Sa\")","v":"Sa"},null,null,"von Wenm:","Martin Blunschi"]
[14,{"$f":"CHOOSE(WEEKDAY(DATE(Daten!$B$1,1,Kalender!A15)),\"So\",\"Mo\",\"Di\",\"Mi\",\"Do\",\"Fr\",\"Sa\")","v":"Mi"},null,14,{"$f":"CHOOSE(WEEKDAY(DATE(Daten!$B$1,2,Kalender!D15)),\"So\",\"Mo\",\"Di\",\"Mi\",\"Do\",\"Fr\",\"Sa\")","v":"Sa"},null,14,{"$f":"CHOOSE(WEEKDAY(DATE(Daten!$B$1,3,Kalender!G15)),\"So\",\"Mo\",\"Di\",\"Mi\",\"Do\",\"Fr\",\"Sa\")","v":"Sa"},null,14,{"$f":"CHOOSE(WEEKDAY(DATE(Daten!$B$1,4,Kalender!J15)),\"So\",\"Mo\",\"Di\",\"Mi\",\"Do\",\"Fr\",\"Sa\")","v":"Di"},null,14,{"$f":"CHOOSE(WEEKDAY(DATE(Daten!$B$1,5,Kalender!M15)),\"So\",\"Mo\",\"Di\",\"Mi\",\"Do\",\"Fr\",\"Sa\")","v":"Do"},"Christi Himmelfahrt",14,{"$f":"CHOOSE(WEEKDAY(DATE(Daten!$B$1,6,Kalender!P15)),\"So\",\"Mo\",\"Di\",\"Mi\",\"Do\",\"Fr\",\"Sa\")","v":"So"}]
[15,{"$f":"CHOOSE(WEEKDAY(DATE(Daten!$B$1,1,Kalender!A16)),\"So\",\"Mo\",\"Di\",\"Mi\",\"Do\",\"Fr\",\"Sa\")","v":"Do"},null,15,{"$f":"CHOOSE(WEEKDAY(DATE(Daten!$B$1,2,Kalender!D16)),\"So\",\"Mo\",\"Di\",\"Mi\",\"Do\",\"Fr\",\"Sa\")","v":"So"},null,15,{"$f":"CHOOSE(WEEKDAY(DATE(Daten!$B$1,3,Kalender!G16)),\"So\",\"Mo\",\"Di\",\"Mi\",\"Do\",\"Fr\",\"Sa\")","v":"So"},null,15,{"$f":"CHOOSE(WEEKDAY(DATE(Daten!$B$1,4,Kalender!J16)),\"So\",\"Mo\",\"Di\",\"Mi\",\"Do\",\"Fr\",\"Sa\")","v":"Mi"},null,15,{"$f":"CHOOSE(WEEKDAY(DATE(Daten!$B$1,5,Kalender!M16)),\"So\",\"Mo\",\"Di\",\"Mi\",\"Do\",\"Fr\",\"Sa\")","v":"Fr"},null,15,{"$f":"CHOOSE(WEEKDAY(DATE(Daten!$B$1,6,Kalender!P16)),\"So\",\"Mo\",\"Di\",\"Mi\",\"Do\",\"Fr\",\"Sa\")","v":"Mo"},"KW25"]
[16,{"$f":"CHOOSE(WEEKDAY(DATE(Daten!$B$1,1,Kalender!A17)),\"So\",\"Mo\",\"Di\",\"Mi\",\"Do\",\"Fr\",\"Sa\")","v":"Fr"},null,16,{"$f":"CHOOSE(WEEKDAY(DATE(Daten!$B$1,2,Kalender!D17)),\"So\",\"Mo\",\"Di\",\"Mi\",\"Do\",\"Fr\",\"Sa\")","v":"Mo"},"Rosenmontag, KW8",16,{"$f":"CHOOSE(WEEKDAY(DATE(Daten!$B$1,3,Kalender!G17)),\"So\",\"Mo\",\"Di\",\"Mi\",\"Do\",\"Fr\",\"Sa\")","v":"Mo"},"KW12",16,{"$f":"CHOOSE(WEEKDAY(DATE(Daten!$B$1,4,Kalender!J17)),\"So\",\"Mo\",\"Di\",\"Mi\",\"Do\",\"Fr\",\"Sa\")","v":"Do"},null,16,{"$f":"CHOOSE(WEEKDAY(DATE(Daten!$B$1,5,Kalender!M17)),\"So\",\"Mo\",\"Di\",\"Mi\",\"Do\",\"Fr\",\"Sa\")","v":"Sa"},null,16,{"$f":"CHOOSE(WEEKDAY(DATE(Daten!$B$1,6,Kalender!P17)),\"So\",\"Mo\",\"Di\",\"Mi\",\"Do\",\"Fr\",\"Sa\")","v":"Di"}]
[17,{"$f":"CHOOSE(WEEKDAY(DATE(Daten!$B$1,1,Kalender!A18)),\"So\",\"Mo\",\"Di\",\"Mi\",\"Do\",\"Fr\",\"Sa\")","v":"Sa"},null,17,{"$f":"CHOOSE(WEEKDAY(DATE(Daten!$B$1,2,Kalender!D18)),\"So\",\"Mo\",\"Di\",\"Mi\",\"Do\",\"Fr\",\"Sa\")","v":"Di"},null,17,{"$f":"CHOOSE(WEEKDAY(DATE(Daten!$B$1,3,Kalender!G18)),\"So\",\"Mo\",\"Di\",\"Mi\",\"Do\",\"Fr\",\"Sa\")","v":"Di"},null,17,{"$f":"CHOOSE(WEEKDAY(DATE(Daten!$B$1,4,Kalender!J18)),\"So\",\"Mo\",\"Di\",\"Mi\",\"Do\",\"Fr\",\"Sa\")","v":"Fr"},null,17,{"$f":"CHOOSE(WEEKDAY(DATE(Daten!$B$1,5,Kalender!M18)),\"So\",\"Mo\",\"Di\",\"Mi\",\"Do\",\"Fr\",\"Sa\")","v":"So"},null,17,{"$f":"CHOOSE(WEEKDAY(DATE(Daten!$B$1,6,Kalender!P18)),\"So\",\"Mo\",\"Di\",\"Mi\",\"Do\",\"Fr\",\"Sa\")","v":"Mi"}]
[18,{"$f":"CHOOSE(WEEKDAY(DATE(Daten!$B$1,1,Kalender!A19)),\"So\",\"Mo\",\"Di\",\"Mi\",\"Do\",\"Fr\",\"Sa\")","v":"So"},"Mila B. (10)",18,{"$f":"CHOOSE(WEEKDAY(DATE(Daten!$B$1,2,Kalender!D19)),\"So\",\"Mo\",\"Di\",\"Mi\",\"Do\",\"Fr\",\"Sa\")","v":"Mi"},"Aschermittwoch",18,{"$f":"CHOOSE(WEEKDAY(DATE(Daten!$B$1,3,Kalender!G19)),\"So\",\"Mo\",\"Di\",\"Mi\",\"Do\",\"Fr\",\"Sa\")","v":"Mi"},null,18,{"$f":"CHOOSE(WEEKDAY(DATE(Daten!$B$1,4,Kalender!J19)),\"So\",\"Mo\",\"Di\",\"Mi\",\"Do\",\"Fr\",\"Sa\")","v":"Sa"},null,18,{"$f":"CHOOSE(WEEKDAY(DATE(Daten!$B$1,5,Kalender!M19)),\"So\",\"Mo\",\"Di\",\"Mi\",\"Do\",\"Fr\",\"Sa\")","v":"Mo"},"KW21",18,{"$f":"CHOOSE(WEEKDAY(DATE(Daten!$B$1,6,Kalender!P19)),\"So\",\"Mo\",\"Di\",\"Mi\",\"Do\",\"Fr\",\"Sa\")","v":"Do"}]
[19,{"$f":"CHOOSE(WEEKDAY(DATE(Daten!$B$1,1,Kalender!A20)),\"So\",\"Mo\",\"Di\",\"Mi\",\"Do\",\"Fr\",\"Sa\")","v":"Mo"},"KW4",19,{"$f":"CHOOSE(WEEKDAY(DATE(Daten!$B$1,2,Kalender!D20)),\"So\",\"Mo\",\"Di\",\"Mi\",\"Do\",\"Fr\",\"Sa\")","v":"Do"},null,19,{"$f":"CHOOSE(WEEKDAY(DATE(Daten!$B$1,3,Kalender!G20)),\"So\",\"Mo\",\"Di\",\"Mi\",\"Do\",\"Fr\",\"Sa\")","v":"Do"},null,19,{"$f":"CHOOSE(WEEKDAY(DATE(Daten!$B$1,4,Kalender!J20)),\"So\",\"Mo\",\"Di\",\"Mi\",\"Do\",\"Fr\",\"Sa\")","v":"So"},null,19,{"$f":"CHOOSE(WEEKDAY(DATE(Daten!$B$1,5,Kalender!M20)),\"So\",\"Mo\",\"Di\",\"Mi\",\"Do\",\"Fr\",\"Sa\")","v":"Di"},null,19,{"$f":"CHOOSE(WEEKDAY(DATE(Daten!$B$1,6,Kalender!P20)),\"So\",\"Mo\",\"Di\",\"Mi\",\"Do\",\"Fr\",\"Sa\")","v":"Fr"}]
[20,{"$f":"CHOOSE(WEEKDAY(DATE(Daten!$B$1,1,Kalender!A21)),\"So\",\"Mo\",\"Di\",\"Mi\",\"Do\",\"Fr\",\"Sa\")","v":"Di"},null,20,{"$f":"CHOOSE(WEEKDAY(DATE(Daten!$B$1,2,Kalender!D21)),\"So\",\"Mo\",\"Di\",\"Mi\",\"Do\",\"Fr\",\"Sa\")","v":"Fr"},null,20,{"$f":"CHOOSE(WEEKDAY(DATE(Daten!$B$1,3,Kalender!G21)),\"So\",\"Mo\",\"Di\",\"Mi\",\"Do\",\"Fr\",\"Sa\")","v":"Fr"},null,20,{"$f":"CHOOSE(WEEKDAY(DATE(Daten!$B$1,4,Kalender!J21)),\"So\",\"Mo\",\"Di\",\"Mi\",\"Do\",\"Fr\",\"Sa\")","v":"Mo"},"KW17",20,{"$f":"CHOOSE(WEEKDAY(DATE(Daten!$B$1,5,Kalender!M21)),\"So\",\"Mo\",\"Di\",\"Mi\",\"Do\",\"Fr\",\"Sa\")","v":"Mi"},null,20,{"$f":"CHOOSE(WEEKDAY(DATE(Daten!$B$1,6,Kalender!P21)),\"So\",\"Mo\",\"Di\",\"Mi\",\"Do\",\"Fr\",\"Sa\")","v":"Sa"}]
[21,{"$f":"CHOOSE(WEEKDAY(DATE(Daten!$B$1,1,Kalender!A22)),\"So\",\"Mo\",\"Di\",\"Mi\",\"Do\",\"Fr\",\"Sa\")","v":"Mi"},null,21,{"$f":"CHOOSE(WEEKDAY(DATE(Daten!$B$1,2,Kalender!D22)),\"So\",\"Mo\",\"Di\",\"Mi\",\"Do\",\"Fr\",\"Sa\")","v":"Sa"},null,21,{"$f":"CHOOSE(WEEKDAY(DATE(Daten!$B$1,3,Kalender!G22)),\"So\",\"Mo\",\"Di\",\"Mi\",\"Do\",\"Fr\",\"Sa\")","v":"Sa"},null,21,{"$f":"CHOOSE(WEEKDAY(DATE(Daten!$B$1,4,Kalender!J22)),\"So\",\"Mo\",\"Di\",\"Mi\",\"Do\",\"Fr\",\"Sa\")","v":"Di"},null,21,{"$f":"CHOOSE(WEEKDAY(DATE(Daten!$B$1,5,Kalender!M22)),\"So\",\"Mo\",\"Di\",\"Mi\",\"Do\",\"Fr\",\"Sa\")","v":"Do"},null,21,{"$f":"CHOOSE(WEEKDAY(DATE(Daten!$B$1,6,Kalender!P22)),\"So\",\"Mo\",\"Di\",\"Mi\",\"Do\",\"Fr\",\"Sa\")","v":"So"}]
[22,{"$f":"CHOOSE(WEEKDAY(DATE(Daten!$B$1,1,Kalender!A23)),\"So\",\"Mo\",\"Di\",\"Mi\",\"Do\",\"Fr\",\"Sa\")","v":"Do"},null,22,{"$f":"CHOOSE(WEEKDAY(DATE(Daten!$B$1,2,Kalender!D23)),\"So\",\"Mo\",\"Di\",\"Mi\",\"Do\",\"Fr\",\"Sa\")","v":"So"},null,22,{"$f":"CHOOSE(WEEKDAY(DATE(Daten!$B$1,3,Kalender!G23)),\"So\",\"Mo\",\"Di\",\"Mi\",\"Do\",\"Fr\",\"Sa\")","v":"So"},null,22,{"$f":"CHOOSE(WEEKDAY(DATE(Daten!$B$1,4,Kalender!J23)),\"So\",\"Mo\",\"Di\",\"Mi\",\"Do\",\"Fr\",\"Sa\")","v":"Mi"},null,22,{"$f":"CHOOSE(WEEKDAY(DATE(Daten!$B$1,5,Kalender!M23)),\"So\",\"Mo\",\"Di\",\"Mi\",\"Do\",\"Fr\",\"Sa\")","v":"Fr"},null,22,{"$f":"CHOOSE(WEEKDAY(DATE(Daten!$B$1,6,Kalender!P23)),\"So\",\"Mo\",\"Di\",\"Mi\",\"Do\",\"Fr\",\"Sa\")","v":"Mo"},"KW26"]
[23,{"$f":"CHOOSE(WEEKDAY(DATE(Daten!$B$1,1,Kalender!A24)),\"So\",\"Mo\",\"Di\",\"Mi\",\"Do\",\"Fr\",\"Sa\")","v":"Fr"},null,23,{"$f":"CHOOSE(WEEKDAY(DATE(Daten!$B$1,2,Kalender!D24)),\"So\",\"Mo\",\"Di\",\"Mi\",\"Do\",\"Fr\",\"Sa\")","v":"Mo"},"KW9",23,{"$f":"CHOOSE(WEEKDAY(DATE(Daten!$B$1,3,Kalender!G24)),\"So\",\"Mo\",\"Di\",\"Mi\",\"Do\",\"Fr\",\"Sa\")","v":"Mo"},"KW13",23,{"$f":"CHOOSE(WEEKDAY(DATE(Daten!$B$1,4,Kalender!J24)),\"So\",\"Mo\",\"Di\",\"Mi\",\"Do\",\"Fr\",\"Sa\")","v":"Do"},null,23,{"$f":"CHOOSE(WEEKDAY(DATE(Daten!$B$1,5,Kalender!M24)),\"So\",\"Mo\",\"Di\",\"Mi\",\"Do\",\"Fr\",\"Sa\")","v":"Sa"},null,23,{"$f":"CHOOSE(WEEKDAY(DATE(Daten!$B$1,6,Kalender!P24)),\"So\",\"Mo\",\"Di\",\"Mi\",\"Do\",\"Fr\",\"Sa\")","v":"Di"}]
[24,{"$f":"CHOOSE(WEEKDAY(DATE(Daten!$B$1,1,Kalender!A25)),\"So\",\"Mo\",\"Di\",\"Mi\",\"Do\",\"Fr\",\"Sa\")","v":"Sa"},null,24,{"$f":"CHOOSE(WEEKDAY(DATE(Daten!$B$1,2,Kalender!D25)),\"So\",\"Mo\",\"Di\",\"Mi\",\"Do\",\"Fr\",\"Sa\")","v":"Di"},null,24,{"$f":"CHOOSE(WEEKDAY(DATE(Daten!$B$1,3,Kalender!G25)),\"So\",\"Mo\",\"Di\",\"Mi\",\"Do\",\"Fr\",\"Sa\")","v":"Di"},null,24,{"$f":"CHOOSE(WEEKDAY(DATE(Daten!$B$1,4,Kalender!J25)),\"So\",\"Mo\",\"Di\",\"Mi\",\"Do\",\"Fr\",\"Sa\")","v":"Fr"},null,24,{"$f":"CHOOSE(WEEKDAY(DATE(Daten!$B$1,5,Kalender!M25)),\"So\",\"Mo\",\"Di\",\"Mi\",\"Do\",\"Fr\",\"Sa\")","v":"So"},"Pfingstsonntag",24,{"$f":"CHOOSE(WEEKDAY(DATE(Daten!$B$1,6,Kalender!P25)),\"So\",\"Mo\",\"Di\",\"Mi\",\"Do\",\"Fr\",\"Sa\")","v":"Mi"},null,null,"Zum Neues Jahr einstellen\nbitte auf das Register Daten wechseln"]
[25,{"$f":"CHOOSE(WEEKDAY(DATE(Daten!$B$1,1,Kalender!A26)),\"So\",\"Mo\",\"Di\",\"Mi\",\"Do\",\"Fr\",\"Sa\")","v":"So"},null,25,{"$f":"CHOOSE(WEEKDAY(DATE(Daten!$B$1,2,Kalender!D26)),\"So\",\"Mo\",\"Di\",\"Mi\",\"Do\",\"Fr\",\"Sa\")","v":"Mi"},null,25,{"$f":"CHOOSE(WEEKDAY(DATE(Daten!$B$1,3,Kalender!G26)),\"So\",\"Mo\",\"Di\",\"Mi\",\"Do\",\"Fr\",\"Sa\")","v":"Mi"},null,25,{"$f":"CHOOSE(WEEKDAY(DATE(Daten!$B$1,4,Kalender!J26)),\"So\",\"Mo\",\"Di\",\"Mi\",\"Do\",\"Fr\",\"Sa\")","v":"Sa"},null,25,{"$f":"CHOOSE(WEEKDAY(DATE(Daten!$B$1,5,Kalender!M26)),\"So\",\"Mo\",\"Di\",\"Mi\",\"Do\",\"Fr\",\"Sa\")","v":"Mo"},"Pfingstmontag, KW22",25,{"$f":"CHOOSE(WEEKDAY(DATE(Daten!$B$1,6,Kalender!P26)),\"So\",\"Mo\",\"Di\",\"Mi\",\"Do\",\"Fr\",\"Sa\")","v":"Do"}]
[26,{"$f":"CHOOSE(WEEKDAY(DATE(Daten!$B$1,1,Kalender!A27)),\"So\",\"Mo\",\"Di\",\"Mi\",\"Do\",\"Fr\",\"Sa\")","v":"Mo"},"KW5",26,{"$f":"CHOOSE(WEEKDAY(DATE(Daten!$B$1,2,Kalender!D27)),\"So\",\"Mo\",\"Di\",\"Mi\",\"Do\",\"Fr\",\"Sa\")","v":"Do"},null,26,{"$f":"CHOOSE(WEEKDAY(DATE(Daten!$B$1,3,Kalender!G27)),\"So\",\"Mo\",\"Di\",\"Mi\",\"Do\",\"Fr\",\"Sa\")","v":"Do"},null,26,{"$f":"CHOOSE(WEEKDAY(DATE(Daten!$B$1,4,Kalender!J27)),\"So\",\"Mo\",\"Di\",\"Mi\",\"Do\",\"Fr\",\"Sa\")","v":"So"},null,26,{"$f":"CHOOSE(WEEKDAY(DATE(Daten!$B$1,5,Kalender!M27)),\"So\",\"Mo\",\"Di\",\"Mi\",\"Do\",\"Fr\",\"Sa\")","v":"Di"},null,26,{"$f":"CHOOSE(WEEKDAY(DATE(Daten!$B$1,6,Kalender!P27)),\"So\",\"Mo\",\"Di\",\"Mi\",\"Do\",\"Fr\",\"Sa\")","v":"Fr"}]
[27,{"$f":"CHOOSE(WEEKDAY(DATE(Daten!$B$1,1,Kalender!A28)),\"So\",\"Mo\",\"Di\",\"Mi\",\"Do\",\"Fr\",\"Sa\")","v":"Di"},null,27,{"$f":"CHOOSE(WEEKDAY(DATE(Daten!$B$1,2,Kalender!D28)),\"So\",\"Mo\",\"Di\",\"Mi\",\"Do\",\"Fr\",\"Sa\")","v":"Fr"},null,27,{"$f":"CHOOSE(WEEKDAY(DATE(Daten!$B$1,3,Kalender!G28)),\"So\",\"Mo\",\"Di\",\"Mi\",\"Do\",\"Fr\",\"Sa\")","v":"Fr"},null,27,{"$f":"CHOOSE(WEEKDAY(DATE(Daten!$B$1,4,Kalender!J28)),\"So\",\"Mo\",\"Di\",\"Mi\",\"Do\",\"Fr\",\"Sa\")","v":"Mo"},"KW18",27,{"$f":"CHOOSE(WEEKDAY(DATE(Daten!$B$1,5,Kalender!M28)),\"So\",\"Mo\",\"Di\",\"Mi\",\"Do\",\"Fr\",\"Sa\")","v":"Mi"},null,27,{"$f":"CHOOSE(WEEKDAY(DATE(Daten!$B$1,6,Kalender!P28)),\"So\",\"Mo\",\"Di\",\"Mi\",\"Do\",\"Fr\",\"Sa\")","v":"Sa"},"Timo B. (8)"]
[28,{"$f":"CHOOSE(WEEKDAY(DATE(Daten!$B$1,1,Kalender!A29)),\"So\",\"Mo\",\"Di\",\"Mi\",\"Do\",\"Fr\",\"Sa\")","v":"Mi"},null,28,{"$f":"CHOOSE(WEEKDAY(DATE(Daten!$B$1,2,Kalender!D29)),\"So\",\"Mo\",\"Di\",\"Mi\",\"Do\",\"Fr\",\"Sa\")","v":"Sa"},null,28,{"$f":"CHOOSE(WEEKDAY(DATE(Daten!$B$1,3,Kalender!G29)),\"So\",\"Mo\",\"Di\",\"Mi\",\"Do\",\"Fr\",\"Sa\")","v":"Sa"},null,28,{"$f":"CHOOSE(WEEKDAY(DATE(Daten!$B$1,4,Kalender!J29)),\"So\",\"Mo\",\"Di\",\"Mi\",\"Do\",\"Fr\",\"Sa\")","v":"Di"},null,28,{"$f":"CHOOSE(WEEKDAY(DATE(Daten!$B$1,5,Kalender!M29)),\"So\",\"Mo\",\"Di\",\"Mi\",\"Do\",\"Fr\",\"Sa\")","v":"Do"},null,28,{"$f":"CHOOSE(WEEKDAY(DATE(Daten!$B$1,6,Kalender!P29)),\"So\",\"Mo\",\"Di\",\"Mi\",\"Do\",\"Fr\",\"Sa\")","v":"So"}]
[29,{"$f":"CHOOSE(WEEKDAY(DATE(Daten!$B$1,1,Kalender!A30)),\"So\",\"Mo\",\"Di\",\"Mi\",\"Do\",\"Fr\",\"Sa\")","v":"Do"},null,{"$f":"IF(AND(Daten!$B$1/4=ROUND(Daten!$B$1/4,0),Daten!$B$1/100<>ROUND(Daten!$B$1/100,0)),\"29\",IF(Daten!$B$1/400=ROUND(Daten!$B$1/400,0),29,\"\"))","v":""},{"$f":"IF($D$30=\"\",\"\",CHOOSE(WEEKDAY(DATE(Daten!$B$1,2,Kalender!D30)),\"So\",\"Mo\",\"Di\",\"Mi\",\"Do\",\"Fr\",\"Sa\"))","v":""},null,29,{"$f":"CHOOSE(WEEKDAY(DATE(Daten!$B$1,3,Kalender!G30)),\"So\",\"Mo\",\"Di\",\"Mi\",\"Do\",\"Fr\",\"Sa\")","v":"So"},null,29,{"$f":"CHOOSE(WEEKDAY(DATE(Daten!$B$1,4,Kalender!J30)),\"So\",\"Mo\",\"Di\",\"Mi\",\"Do\",\"Fr\",\"Sa\")","v":"Mi"},null,29,{"$f":"CHOOSE(WEEKDAY(DATE(Daten!$B$1,5,Kalender!M30)),\"So\",\"Mo\",\"Di\",\"Mi\",\"Do\",\"Fr\",\"Sa\")","v":"Fr"},null,29,{"$f":"CHOOSE(WEEKDAY(DATE(Daten!$B$1,6,Kalender!P30)),\"So\",\"Mo\",\"Di\",\"Mi\",\"Do\",\"Fr\",\"Sa\")","v":"Mo"},"KW27"]
[30,{"$f":"CHOOSE(WEEKDAY(DATE(Daten!$B$1,1,Kalender!A31)),\"So\",\"Mo\",\"Di\",\"Mi\",\"Do\",\"Fr\",\"Sa\")","v":"Fr"},null,null,null,null,30,{"$f":"CHOOSE(WEEKDAY(DATE(Daten!$B$1,3,Kalender!G31)),\"So\",\"Mo\",\"Di\",\"Mi\",\"Do\",\"Fr\",\"Sa\")","v":"Mo"},"KW14",30,{"$f":"CHOOSE(WEEKDAY(DATE(Daten!$B$1,4,Kalender!J31)),\"So\",\"Mo\",\"Di\",\"Mi\",\"Do\",\"Fr\",\"Sa\")","v":"Do"},null,30,{"$f":"CHOOSE(WEEKDAY(DATE(Daten!$B$1,5,Kalender!M31)),\"So\",\"Mo\",\"Di\",\"Mi\",\"Do\",\"Fr\",\"Sa\")","v":"Sa"},null,30,{"$f":"CHOOSE(WEEKDAY(DATE(Daten!$B$1,6,Kalender!P31)),\"So\",\"Mo\",\"Di\",\"Mi\",\"Do\",\"Fr\",\"Sa\")","v":"Di"}]
[31,{"$f":"CHOOSE(WEEKDAY(DATE(Daten!$B$1,1,Kalender!A32)),\"So\",\"Mo\",\"Di\",\"Mi\",\"Do\",\"Fr\",\"Sa\")","v":"Sa"},null,null,null,null,31,{"$f":"CHOOSE(WEEKDAY(DATE(Daten!$B$1,3,Kalender!G32)),\"So\",\"Mo\",\"Di\",\"Mi\",\"Do\",\"Fr\",\"Sa\")","v":"Di"},null,null,null,null,31,{"$f":"CHOOSE(WEEKDAY(DATE(Daten!$B$1,5,Kalender!M32)),\"So\",\"Mo\",\"Di\",\"Mi\",\"Do\",\"Fr\",\"Sa\")","v":"So"}]
["21 Arbeitstage",null,null,"20 Arbeitstage",null,null,"22 Arbeitstage",null,null,"20 Arbeitstage",null,null,"18 Arbeitstage",null,null,"21 Arbeitstage"]
[{"$f":"DATE(Daten!$B$1,7,1)","v":"2026-07-01"},null,null,{"$f":"DATE(Daten!$B$1,8,1)","v":"2026-08-01"},null,null,{"$f":"DATE(Daten!$B$1,9,1)","v":"2026-09-01"},null,null,{"$f":"DATE(Daten!$B$1,10,1)","v":"2026-10-01"},null,null,{"$f":"DATE(Daten!$B$1,11,1)","v":"2026-11-01"},null,null,{"$f":"DATE(Daten!$B$1,12,1)","v":"2026-12-01"}]
[1,{"$f":"CHOOSE(WEEKDAY(DATE(Daten!$B$1,7,Kalender!A35)),\"So\",\"Mo\",\"Di\",\"Mi\",\"Do\",\"Fr\",\"Sa\")","v":"Mi"},null,1,{"$f":"CHOOSE(WEEKDAY(DATE(Daten!$B$1,8,Kalender!D35)),\"So\",\"Mo\",\"Di\",\"Mi\",\"Do\",\"Fr\",\"Sa\")","v":"Sa"},"Nationalfeiertag",1,{"$f":"CHOOSE(WEEKDAY(DATE(Daten!$B$1,9,Kalender!G35)),\"So\",\"Mo\",\"Di\",\"Mi\",\"Do\",\"Fr\",\"Sa\")","v":"Di"},null,1,{"$f":"CHOOSE(WEEKDAY(DATE(Daten!$B$1,10,Kalender!J35)),\"So\",\"Mo\",\"Di\",\"Mi\",\"Do\",\"Fr\",\"Sa\")","v":"Do"},null,1,{"$f":"CHOOSE(WEEKDAY(DATE(Daten!$B$1,11,Kalender!M35)),\"So\",\"Mo\",\"Di\",\"Mi\",\"Do\",\"Fr\",\"Sa\")","v":"So"},"Allerheiligen",1,{"$f":"CHOOSE(WEEKDAY(DATE(Daten!$B$1,12,Kalender!P35)),\"So\",\"Mo\",\"Di\",\"Mi\",\"Do\",\"Fr\",\"Sa\")","v":"Di"}]
[2,{"$f":"CHOOSE(WEEKDAY(DATE(Daten!$B$1,7,Kalender!A36)),\"So\",\"Mo\",\"Di\",\"Mi\",\"Do\",\"Fr\",\"Sa\")","v":"Do"},null,2,{"$f":"CHOOSE(WEEKDAY(DATE(Daten!$B$1,8,Kalender!D36)),\"So\",\"Mo\",\"Di\",\"Mi\",\"Do\",\"Fr\",\"Sa\")","v":"So"},null,2,{"$f":"CHOOSE(WEEKDAY(DATE(Daten!$B$1,9,Kalender!G36)),\"So\",\"Mo\",\"Di\",\"Mi\",\"Do\",\"Fr\",\"Sa\")","v":"Mi"},null,2,{"$f":"CHOOSE(WEEKDAY(DATE(Daten!$B$1,10,Kalender!J36)),\"So\",\"Mo\",\"Di\",\"Mi\",\"Do\",\"Fr\",\"Sa\")","v":"Fr"},null,2,{"$f":"CHOOSE(WEEKDAY(DATE(Daten!$B$1,11,Kalender!M36)),\"So\",\"Mo\",\"Di\",\"Mi\",\"Do\",\"Fr\",\"Sa\")","v":"Mo"},"KW45",2,{"$f":"CHOOSE(WEEKDAY(DATE(Daten!$B$1,12,Kalender!P36)),\"So\",\"Mo\",\"Di\",\"Mi\",\"Do\",\"Fr\",\"Sa\")","v":"Mi"}]
[3,{"$f":"CHOOSE(WEEKDAY(DATE(Daten!$B$1,7,Kalender!A37)),\"So\",\"Mo\",\"Di\",\"Mi\",\"Do\",\"Fr\",\"Sa\")","v":"Fr"},null,3,{"$f":"CHOOSE(WEEKDAY(DATE(Daten!$B$1,8,Kalender!D37)),\"So\",\"Mo\",\"Di\",\"Mi\",\"Do\",\"Fr\",\"Sa\")","v":"Mo"},"KW32",3,{"$f":"CHOOSE(WEEKDAY(DATE(Daten!$B$1,9,Kalender!G37)),\"So\",\"Mo\",\"Di\",\"Mi\",\"Do\",\"Fr\",\"Sa\")","v":"Do"},null,3,{"$f":"CHOOSE(WEEKDAY(DATE(Daten!$B$1,10,Kalender!J37)),\"So\",\"Mo\",\"Di\",\"Mi\",\"Do\",\"Fr\",\"Sa\")","v":"Sa"},"Tag der dt. Einheit",3,{"$f":"CHOOSE(WEEKDAY(DATE(Daten!$B$1,11,Kalender!M37)),\"So\",\"Mo\",\"Di\",\"Mi\",\"Do\",\"Fr\",\"Sa\")","v":"Di"},"Matthias B. (43)",3,{"$f":"CHOOSE(WEEKDAY(DATE(Daten!$B$1,12,Kalender!P37)),\"So\",\"Mo\",\"Di\",\"Mi\",\"Do\",\"Fr\",\"Sa\")","v":"Do"}]
[4,{"$f":"CHOOSE(WEEKDAY(DATE(Daten!$B$1,7,Kalender!A38)),\"So\",\"Mo\",\"Di\",\"Mi\",\"Do\",\"Fr\",\"Sa\")","v":"Sa"},null,4,{"$f":"CHOOSE(WEEKDAY(DATE(Daten!$B$1,8,Kalender!D38)),\"So\",\"Mo\",\"Di\",\"Mi\",\"Do\",\"Fr\",\"Sa\")","v":"Di"},null,4,{"$f":"CHOOSE(WEEKDAY(DATE(Daten!$B$1,9,Kalender!G38)),\"So\",\"Mo\",\"Di\",\"Mi\",\"Do\",\"Fr\",\"Sa\")","v":"Fr"},null,4,{"$f":"CHOOSE(WEEKDAY(DATE(Daten!$B$1,10,Kalender!J38)),\"So\",\"Mo\",\"Di\",\"Mi\",\"Do\",\"Fr\",\"Sa\")","v":"So"},null,4,{"$f":"CHOOSE(WEEKDAY(DATE(Daten!$B$1,11,Kalender!M38)),\"So\",\"Mo\",\"Di\",\"Mi\",\"Do\",\"Fr\",\"Sa\")","v":"Mi"},null,4,{"$f":"CHOOSE(WEEKDAY(DATE(Daten!$B$1,12,Kalender!P38)),\"So\",\"Mo\",\"Di\",\"Mi\",\"Do\",\"Fr\",\"Sa\")","v":"Fr"}]
[5,{"$f":"CHOOSE(WEEKDAY(DATE(Daten!$B$1,7,Kalender!A39)),\"So\",\"Mo\",\"Di\",\"Mi\",\"Do\",\"Fr\",\"Sa\")","v":"So"},null,5,{"$f":"CHOOSE(WEEKDAY(DATE(Daten!$B$1,8,Kalender!D39)),\"So\",\"Mo\",\"Di\",\"Mi\",\"Do\",\"Fr\",\"Sa\")","v":"Mi"},null,5,{"$f":"CHOOSE(WEEKDAY(DATE(Daten!$B$1,9,Kalender!G39)),\"So\",\"Mo\",\"Di\",\"Mi\",\"Do\",\"Fr\",\"Sa\")","v":"Sa"},null,5,{"$f":"CHOOSE(WEEKDAY(DATE(Daten!$B$1,10,Kalender!J39)),\"So\",\"Mo\",\"Di\",\"Mi\",\"Do\",\"Fr\",\"Sa\")","v":"Mo"},"KW41",5,{"$f":"CHOOSE(WEEKDAY(DATE(Daten!$B$1,11,Kalender!M39)),\"So\",\"Mo\",\"Di\",\"Mi\",\"Do\",\"Fr\",\"Sa\")","v":"Do"},null,5,{"$f":"CHOOSE(WEEKDAY(DATE(Daten!$B$1,12,Kalender!P39)),\"So\",\"Mo\",\"Di\",\"Mi\",\"Do\",\"Fr\",\"Sa\")","v":"Sa"}]
[6,{"$f":"CHOOSE(WEEKDAY(DATE(Daten!$B$1,7,Kalender!A40)),\"So\",\"Mo\",\"Di\",\"Mi\",\"Do\",\"Fr\",\"Sa\")","v":"Mo"},"KW28",6,{"$f":"CHOOSE(WEEKDAY(DATE(Daten!$B$1,8,Kalender!D40)),\"So\",\"Mo\",\"Di\",\"Mi\",\"Do\",\"Fr\",\"Sa\")","v":"Do"},null,6,{"$f":"CHOOSE(WEEKDAY(DATE(Daten!$B$1,9,Kalender!G40)),\"So\",\"Mo\",\"Di\",\"Mi\",\"Do\",\"Fr\",\"Sa\")","v":"So"},null,6,{"$f":"CHOOSE(WEEKDAY(DATE(Daten!$B$1,10,Kalender!J40)),\"So\",\"Mo\",\"Di\",\"Mi\",\"Do\",\"Fr\",\"Sa\")","v":"Di"},null,6,{"$f":"CHOOSE(WEEKDAY(DATE(Daten!$B$1,11,Kalender!M40)),\"So\",\"Mo\",\"Di\",\"Mi\",\"Do\",\"Fr\",\"Sa\")","v":"Fr"},null,6,{"$f":"CHOOSE(WEEKDAY(DATE(Daten!$B$1,12,Kalender!P40)),\"So\",\"Mo\",\"Di\",\"Mi\",\"Do\",\"Fr\",\"Sa\")","v":"So"},"2. Advent"]
[7,{"$f":"CHOOSE(WEEKDAY(DATE(Daten!$B$1,7,Kalender!A41)),\"So\",\"Mo\",\"Di\",\"Mi\",\"Do\",\"Fr\",\"Sa\")","v":"Di"},null,7,{"$f":"CHOOSE(WEEKDAY(DATE(Daten!$B$1,8,Kalender!D41)),\"So\",\"Mo\",\"Di\",\"Mi\",\"Do\",\"Fr\",\"Sa\")","v":"Fr"},null,7,{"$f":"CHOOSE(WEEKDAY(DATE(Daten!$B$1,9,Kalender!G41)),\"So\",\"Mo\",\"Di\",\"Mi\",\"Do\",\"Fr\",\"Sa\")","v":"Mo"},"KW37",7,{"$f":"CHOOSE(WEEKDAY(DATE(Daten!$B$1,10,Kalender!J41)),\"So\",\"Mo\",\"Di\",\"Mi\",\"Do\",\"Fr\",\"Sa\")","v":"Mi"},null,7,{"$f":"CHOOSE(WEEKDAY(DATE(Daten!$B$1,11,Kalender!M41)),\"So\",\"Mo\",\"Di\",\"Mi\",\"Do\",\"Fr\",\"Sa\")","v":"Sa"},null,7,{"$f":"CHOOSE(WEEKDAY(DATE(Daten!$B$1,12,Kalender!P41)),\"So\",\"Mo\",\"Di\",\"Mi\",\"Do\",\"Fr\",\"Sa\")","v":"Mo"},"KW50"]
[8,{"$f":"CHOOSE(WEEKDAY(DATE(Daten!$B$1,7,Kalender!A42)),\"So\",\"Mo\",\"Di\",\"Mi\",\"Do\",\"Fr\",\"Sa\")","v":"Mi"},null,8,{"$f":"CHOOSE(WEEKDAY(DATE(Daten!$B$1,8,Kalender!D42)),\"So\",\"Mo\",\"Di\",\"Mi\",\"Do\",\"Fr\",\"Sa\")","v":"Sa"},"Friedenstag",8,{"$f":"CHOOSE(WEEKDAY(DATE(Daten!$B$1,9,Kalender!G42)),\"So\",\"Mo\",\"Di\",\"Mi\",\"Do\",\"Fr\",\"Sa\")","v":"Di"},null,8,{"$f":"CHOOSE(WEEKDAY(DATE(Daten!$B$1,10,Kalender!J42)),\"So\",\"Mo\",\"Di\",\"Mi\",\"Do\",\"Fr\",\"Sa\")","v":"Do"},null,8,{"$f":"CHOOSE(WEEKDAY(DATE(Daten!$B$1,11,Kalender!M42)),\"So\",\"Mo\",\"Di\",\"Mi\",\"Do\",\"Fr\",\"Sa\")","v":"So"},null,8,{"$f":"CHOOSE(WEEKDAY(DATE(Daten!$B$1,12,Kalender!P42)),\"So\",\"Mo\",\"Di\",\"Mi\",\"Do\",\"Fr\",\"Sa\")","v":"Di"}]
[9,{"$f":"CHOOSE(WEEKDAY(DATE(Daten!$B$1,7,Kalender!A43)),\"So\",\"Mo\",\"Di\",\"Mi\",\"Do\",\"Fr\",\"Sa\")","v":"Do"},null,9,{"$f":"CHOOSE(WEEKDAY(DATE(Daten!$B$1,8,Kalender!D43)),\"So\",\"Mo\",\"Di\",\"Mi\",\"Do\",\"Fr\",\"Sa\")","v":"So"},null,9,{"$f":"CHOOSE(WEEKDAY(DATE(Daten!$B$1,9,Kalender!G43)),\"So\",\"Mo\",\"Di\",\"Mi\",\"Do\",\"Fr\",\"Sa\")","v":"Mi"},null,9,{"$f":"CHOOSE(WEEKDAY(DATE(Daten!$B$1,10,Kalender!J43)),\"So\",\"Mo\",\"Di\",\"Mi\",\"Do\",\"Fr\",\"Sa\")","v":"Fr"},null,9,{"$f":"CHOOSE(WEEKDAY(DATE(Daten!$B$1,11,Kalender!M43)),\"So\",\"Mo\",\"Di\",\"Mi\",\"Do\",\"Fr\",\"Sa\")","v":"Mo"},"KW46",9,{"$f":"CHOOSE(WEEKDAY(DATE(Daten!$B$1,12,Kalender!P43)),\"So\",\"Mo\",\"Di\",\"Mi\",\"Do\",\"Fr\",\"Sa\")","v":"Mi"}]
[10,{"$f":"CHOOSE(WEEKDAY(DATE(Daten!$B$1,7,Kalender!A44)),\"So\",\"Mo\",\"Di\",\"Mi\",\"Do\",\"Fr\",\"Sa\")","v":"Fr"},null,10,{"$f":"CHOOSE(WEEKDAY(DATE(Daten!$B$1,8,Kalender!D44)),\"So\",\"Mo\",\"Di\",\"Mi\",\"Do\",\"Fr\",\"Sa\")","v":"Mo"},"KW33",10,{"$f":"CHOOSE(WEEKDAY(DATE(Daten!$B$1,9,Kalender!G44)),\"So\",\"Mo\",\"Di\",\"Mi\",\"Do\",\"Fr\",\"Sa\")","v":"Do"},null,10,{"$f":"CHOOSE(WEEKDAY(DATE(Daten!$B$1,10,Kalender!J44)),\"So\",\"Mo\",\"Di\",\"Mi\",\"Do\",\"Fr\",\"Sa\")","v":"Sa"},null,10,{"$f":"CHOOSE(WEEKDAY(DATE(Daten!$B$1,11,Kalender!M44)),\"So\",\"Mo\",\"Di\",\"Mi\",\"Do\",\"Fr\",\"Sa\")","v":"Di"},null,10,{"$f":"CHOOSE(WEEKDAY(DATE(Daten!$B$1,12,Kalender!P44)),\"So\",\"Mo\",\"Di\",\"Mi\",\"Do\",\"Fr\",\"Sa\")","v":"Do"}]
[11,{"$f":"CHOOSE(WEEKDAY(DATE(Daten!$B$1,7,Kalender!A45)),\"So\",\"Mo\",\"Di\",\"Mi\",\"Do\",\"Fr\",\"Sa\")","v":"Sa"},null,11,{"$f":"CHOOSE(WEEKDAY(DATE(Daten!$B$1,8,Kalender!D45)),\"So\",\"Mo\",\"Di\",\"Mi\",\"Do\",\"Fr\",\"Sa\")","v":"Di"},null,11,{"$f":"CHOOSE(WEEKDAY(DATE(Daten!$B$1,9,Kalender!G45)),\"So\",\"Mo\",\"Di\",\"Mi\",\"Do\",\"Fr\",\"Sa\")","v":"Fr"},null,11,{"$f":"CHOOSE(WEEKDAY(DATE(Daten!$B$1,10,Kalender!J45)),\"So\",\"Mo\",\"Di\",\"Mi\",\"Do\",\"Fr\",\"Sa\")","v":"So"},null,11,{"$f":"CHOOSE(WEEKDAY(DATE(Daten!$B$1,11,Kalender!M45)),\"So\",\"Mo\",\"Di\",\"Mi\",\"Do\",\"Fr\",\"Sa\")","v":"Mi"},null,11,{"$f":"CHOOSE(WEEKDAY(DATE(Daten!$B$1,12,Kalender!P45)),\"So\",\"Mo\",\"Di\",\"Mi\",\"Do\",\"Fr\",\"Sa\")","v":"Fr"}]
[12,{"$f":"CHOOSE(WEEKDAY(DATE(Daten!$B$1,7,Kalender!A46)),\"So\",\"Mo\",\"Di\",\"Mi\",\"Do\",\"Fr\",\"Sa\")","v":"So"},null,12,{"$f":"CHOOSE(WEEKDAY(DATE(Daten!$B$1,8,Kalender!D46)),\"So\",\"Mo\",\"Di\",\"Mi\",\"Do\",\"Fr\",\"Sa\")","v":"Mi"},null,12,{"$f":"CHOOSE(WEEKDAY(DATE(Daten!$B$1,9,Kalender!G46)),\"So\",\"Mo\",\"Di\",\"Mi\",\"Do\",\"Fr\",\"Sa\")","v":"Sa"},null,12,{"$f":"CHOOSE(WEEKDAY(DATE(Daten!$B$1,10,Kalender!J46)),\"So\",\"Mo\",\"Di\",\"Mi\",\"Do\",\"Fr\",\"Sa\")","v":"Mo"},"KW42",12,{"$f":"CHOOSE(WEEKDAY(DATE(Daten!$B$1,11,Kalender!M46)),\"So\",\"Mo\",\"Di\",\"Mi\",\"Do\",\"Fr\",\"Sa\")","v":"Do"},null,12,{"$f":"CHOOSE(WEEKDAY(DATE(Daten!$B$1,12,Kalender!P46)),\"So\",\"Mo\",\"Di\",\"Mi\",\"Do\",\"Fr\",\"Sa\")","v":"Sa"}]
[13,{"$f":"CHOOSE(WEEKDAY(DATE(Daten!$B$1,7,Kalender!A47)),\"So\",\"Mo\",\"Di\",\"Mi\",\"Do\",\"Fr\",\"Sa\")","v":"Mo"},"KW29",13,{"$f":"CHOOSE(WEEKDAY(DATE(Daten!$B$1,8,Kalender!D47)),\"So\",\"Mo\",\"Di\",\"Mi\",\"Do\",\"Fr\",\"Sa\")","v":"Do"},null,13,{"$f":"CHOOSE(WEEKDAY(DATE(Daten!$B$1,9,Kalender!G47)),\"So\",\"Mo\",\"Di\",\"Mi\",\"Do\",\"Fr\",\"Sa\")","v":"So"},null,13,{"$f":"CHOOSE(WEEKDAY(DATE(Daten!$B$1,10,Kalender!J47)),\"So\",\"Mo\",\"Di\",\"Mi\",\"Do\",\"Fr\",\"Sa\")","v":"Di"},null,13,{"$f":"CHOOSE(WEEKDAY(DATE(Daten!$B$1,11,Kalender!M47)),\"So\",\"Mo\",\"Di\",\"Mi\",\"Do\",\"Fr\",\"Sa\")","v":"Fr"},null,13,{"$f":"CHOOSE(WEEKDAY(DATE(Daten!$B$1,12,Kalender!P47)),\"So\",\"Mo\",\"Di\",\"Mi\",\"Do\",\"Fr\",\"Sa\")","v":"So"},"3. Advent",null,null,null,"© 2026 by mablu"]
[14,{"$f":"CHOOSE(WEEKDAY(DATE(Daten!$B$1,7,Kalender!A48)),\"So\",\"Mo\",\"Di\",\"Mi\",\"Do\",\"Fr\",\"Sa\")","v":"Di"},null,14,{"$f":"CHOOSE(WEEKDAY(DATE(Daten!$B$1,8,Kalender!D48)),\"So\",\"Mo\",\"Di\",\"Mi\",\"Do\",\"Fr\",\"Sa\")","v":"Fr"},null,14,{"$f":"CHOOSE(WEEKDAY(DATE(Daten!$B$1,9,Kalender!G48)),\"So\",\"Mo\",\"Di\",\"Mi\",\"Do\",\"Fr\",\"Sa\")","v":"Mo"},"KW38",14,{"$f":"CHOOSE(WEEKDAY(DATE(Daten!$B$1,10,Kalender!J48)),\"So\",\"Mo\",\"Di\",\"Mi\",\"Do\",\"Fr\",\"Sa\")","v":"Mi"},null,14,{"$f":"CHOOSE(WEEKDAY(DATE(Daten!$B$1,11,Kalender!M48)),\"So\",\"Mo\",\"Di\",\"Mi\",\"Do\",\"Fr\",\"Sa\")","v":"Sa"},null,14,{"$f":"CHOOSE(WEEKDAY(DATE(Daten!$B$1,12,Kalender!P48)),\"So\",\"Mo\",\"Di\",\"Mi\",\"Do\",\"Fr\",\"Sa\")","v":"Mo"},"KW51"]
[15,{"$f":"CHOOSE(WEEKDAY(DATE(Daten!$B$1,7,Kalender!A49)),\"So\",\"Mo\",\"Di\",\"Mi\",\"Do\",\"Fr\",\"Sa\")","v":"Mi"},null,15,{"$f":"CHOOSE(WEEKDAY(DATE(Daten!$B$1,8,Kalender!D49)),\"So\",\"Mo\",\"Di\",\"Mi\",\"Do\",\"Fr\",\"Sa\")","v":"Sa"},"Maria Himmelfahrt",15,{"$f":"CHOOSE(WEEKDAY(DATE(Daten!$B$1,9,Kalender!G49)),\"So\",\"Mo\",\"Di\",\"Mi\",\"Do\",\"Fr\",\"Sa\")","v":"Di"},null,15,{"$f":"CHOOSE(WEEKDAY(DATE(Daten!$B$1,10,Kalender!J49)),\"So\",\"Mo\",\"Di\",\"Mi\",\"Do\",\"Fr\",\"Sa\")","v":"Do"},null,15,{"$f":"CHOOSE(WEEKDAY(DATE(Daten!$B$1,11,Kalender!M49)),\"So\",\"Mo\",\"Di\",\"Mi\",\"Do\",\"Fr\",\"Sa\")","v":"So"},"Volkstrauertag",15,{"$f":"CHOOSE(WEEKDAY(DATE(Daten!$B$1,12,Kalender!P49)),\"So\",\"Mo\",\"Di\",\"Mi\",\"Do\",\"Fr\",\"Sa\")","v":"Di"}]
[16,{"$f":"CHOOSE(WEEKDAY(DATE(Daten!$B$1,7,Kalender!A50)),\"So\",\"Mo\",\"Di\",\"Mi\",\"Do\",\"Fr\",\"Sa\")","v":"Do"},null,16,{"$f":"CHOOSE(WEEKDAY(DATE(Daten!$B$1,8,Kalender!D50)),\"So\",\"Mo\",\"Di\",\"Mi\",\"Do\",\"Fr\",\"Sa\")","v":"So"},null,16,{"$f":"CHOOSE(WEEKDAY(DATE(Daten!$B$1,9,Kalender!G50)),\"So\",\"Mo\",\"Di\",\"Mi\",\"Do\",\"Fr\",\"Sa\")","v":"Mi"},null,16,{"$f":"CHOOSE(WEEKDAY(DATE(Daten!$B$1,10,Kalender!J50)),\"So\",\"Mo\",\"Di\",\"Mi\",\"Do\",\"Fr\",\"Sa\")","v":"Fr"},null,16,{"$f":"CHOOSE(WEEKDAY(DATE(Daten!$B$1,11,Kalender!M50)),\"So\",\"Mo\",\"Di\",\"Mi\",\"Do\",\"Fr\",\"Sa\")","v":"Mo"},"KW47",16,{"$f":"CHOOSE(WEEKDAY(DATE(Daten!$B$1,12,Kalender!P50)),\"So\",\"Mo\",\"Di\",\"Mi\",\"Do\",\"Fr\",\"Sa\")","v":"Mi"}]
[17,{"$f":"CHOOSE(WEEKDAY(DATE(Daten!$B$1,7,Kalender!A51)),\"So\",\"Mo\",\"Di\",\"Mi\",\"Do\",\"Fr\",\"Sa\")","v":"Fr"},null,17,{"$f":"CHOOSE(WEEKDAY(DATE(Daten!$B$1,8,Kalender!D51)),\"So\",\"Mo\",\"Di\",\"Mi\",\"Do\",\"Fr\",\"Sa\")","v":"Mo"},"KW34",17,{"$f":"CHOOSE(WEEKDAY(DATE(Daten!$B$1,9,Kalender!G51)),\"So\",\"Mo\",\"Di\",\"Mi\",\"Do\",\"Fr\",\"Sa\")","v":"Do"},null,17,{"$f":"CHOOSE(WEEKDAY(DATE(Daten!$B$1,10,Kalender!J51)),\"So\",\"Mo\",\"Di\",\"Mi\",\"Do\",\"Fr\",\"Sa\")","v":"Sa"},null,17,{"$f":"CHOOSE(WEEKDAY(DATE(Daten!$B$1,11,Kalender!M51)),\"So\",\"Mo\",\"Di\",\"Mi\",\"Do\",\"Fr\",\"Sa\")","v":"Di"},null,17,{"$f":"CHOOSE(WEEKDAY(DATE(Daten!$B$1,12,Kalender!P51)),\"So\",\"Mo\",\"Di\",\"Mi\",\"Do\",\"Fr\",\"Sa\")","v":"Do"}]
[18,{"$f":"CHOOSE(WEEKDAY(DATE(Daten!$B$1,7,Kalender!A52)),\"So\",\"Mo\",\"Di\",\"Mi\",\"Do\",\"Fr\",\"Sa\")","v":"Sa"},null,18,{"$f":"CHOOSE(WEEKDAY(DATE(Daten!$B$1,8,Kalender!D52)),\"So\",\"Mo\",\"Di\",\"Mi\",\"Do\",\"Fr\",\"Sa\")","v":"Di"},null,18,{"$f":"CHOOSE(WEEKDAY(DATE(Daten!$B$1,9,Kalender!G52)),\"So\",\"Mo\",\"Di\",\"Mi\",\"Do\",\"Fr\",\"Sa\")","v":"Fr"},null,18,{"$f":"CHOOSE(WEEKDAY(DATE(Daten!$B$1,10,Kalender!J52)),\"So\",\"Mo\",\"Di\",\"Mi\",\"Do\",\"Fr\",\"Sa\")","v":"So"},null,18,{"$f":"CHOOSE(WEEKDAY(DATE(Daten!$B$1,11,Kalender!M52)),\"So\",\"Mo\",\"Di\",\"Mi\",\"Do\",\"Fr\",\"Sa\")","v":"Mi"},"Buss- u. Bettag",18,{"$f":"CHOOSE(WEEKDAY(DATE(Daten!$B$1,12,Kalender!P52)),\"So\",\"Mo\",\"Di\",\"Mi\",\"Do\",\"Fr\",\"Sa\")","v":"Fr"}]
[19,{"$f":"CHOOSE(WEEKDAY(DATE(Daten!$B$1,7,Kalender!A53)),\"So\",\"Mo\",\"Di\",\"Mi\",\"Do\",\"Fr\",\"Sa\")","v":"So"},null,19,{"$f":"CHOOSE(WEEKDAY(DATE(Daten!$B$1,8,Kalender!D53)),\"So\",\"Mo\",\"Di\",\"Mi\",\"Do\",\"Fr\",\"Sa\")","v":"Mi"},null,19,{"$f":"CHOOSE(WEEKDAY(DATE(Daten!$B$1,9,Kalender!G53)),\"So\",\"Mo\",\"Di\",\"Mi\",\"Do\",\"Fr\",\"Sa\")","v":"Sa"},null,19,{"$f":"CHOOSE(WEEKDAY(DATE(Daten!$B$1,10,Kalender!J53)),\"So\",\"Mo\",\"Di\",\"Mi\",\"Do\",\"Fr\",\"Sa\")","v":"Mo"},"Gaby B.  (66), KW43",19,{"$f":"CHOOSE(WEEKDAY(DATE(Daten!$B$1,11,Kalender!M53)),\"So\",\"Mo\",\"Di\",\"Mi\",\"Do\",\"Fr\",\"Sa\")","v":"Do"},null,19,{"$f":"CHOOSE(WEEKDAY(DATE(Daten!$B$1,12,Kalender!P53)),\"So\",\"Mo\",\"Di\",\"Mi\",\"Do\",\"Fr\",\"Sa\")","v":"Sa"}]
[20,{"$f":"CHOOSE(WEEKDAY(DATE(Daten!$B$1,7,Kalender!A54)),\"So\",\"Mo\",\"Di\",\"Mi\",\"Do\",\"Fr\",\"Sa\")","v":"Mo"},"KW30",20,{"$f":"CHOOSE(WEEKDAY(DATE(Daten!$B$1,8,Kalender!D54)),\"So\",\"Mo\",\"Di\",\"Mi\",\"Do\",\"Fr\",\"Sa\")","v":"Do"},null,20,{"$f":"CHOOSE(WEEKDAY(DATE(Daten!$B$1,9,Kalender!G54)),\"So\",\"Mo\",\"Di\",\"Mi\",\"Do\",\"Fr\",\"Sa\")","v":"So"},null,20,{"$f":"CHOOSE(WEEKDAY(DATE(Daten!$B$1,10,Kalender!J54)),\"So\",\"Mo\",\"Di\",\"Mi\",\"Do\",\"Fr\",\"Sa\")","v":"Di"},null,20,{"$f":"CHOOSE(WEEKDAY(DATE(Daten!$B$1,11,Kalender!M54)),\"So\",\"Mo\",\"Di\",\"Mi\",\"Do\",\"Fr\",\"Sa\")","v":"Fr"},null,20,{"$f":"CHOOSE(WEEKDAY(DATE(Daten!$B$1,12,Kalender!P54)),\"So\",\"Mo\",\"Di\",\"Mi\",\"Do\",\"Fr\",\"Sa\")","v":"So"},"4. Advent"]
[21,{"$f":"CHOOSE(WEEKDAY(DATE(Daten!$B$1,7,Kalender!A55)),\"So\",\"Mo\",\"Di\",\"Mi\",\"Do\",\"Fr\",\"Sa\")","v":"Di"},null,21,{"$f":"CHOOSE(WEEKDAY(DATE(Daten!$B$1,8,Kalender!D55)),\"So\",\"Mo\",\"Di\",\"Mi\",\"Do\",\"Fr\",\"Sa\")","v":"Fr"},null,21,{"$f":"CHOOSE(WEEKDAY(DATE(Daten!$B$1,9,Kalender!G55)),\"So\",\"Mo\",\"Di\",\"Mi\",\"Do\",\"Fr\",\"Sa\")","v":"Mo"},"KW39",21,{"$f":"CHOOSE(WEEKDAY(DATE(Daten!$B$1,10,Kalender!J55)),\"So\",\"Mo\",\"Di\",\"Mi\",\"Do\",\"Fr\",\"Sa\")","v":"Mi"},null,21,{"$f":"CHOOSE(WEEKDAY(DATE(Daten!$B$1,11,Kalender!M55)),\"So\",\"Mo\",\"Di\",\"Mi\",\"Do\",\"Fr\",\"Sa\")","v":"Sa"},null,21,{"$f":"CHOOSE(WEEKDAY(DATE(Daten!$B$1,12,Kalender!P55)),\"So\",\"Mo\",\"Di\",\"Mi\",\"Do\",\"Fr\",\"Sa\")","v":"Mo"},"KW52"]
[22,{"$f":"CHOOSE(WEEKDAY(DATE(Daten!$B$1,7,Kalender!A56)),\"So\",\"Mo\",\"Di\",\"Mi\",\"Do\",\"Fr\",\"Sa\")","v":"Mi"},null,22,{"$f":"CHOOSE(WEEKDAY(DATE(Daten!$B$1,8,Kalender!D56)),\"So\",\"Mo\",\"Di\",\"Mi\",\"Do\",\"Fr\",\"Sa\")","v":"Sa"},null,22,{"$f":"CHOOSE(WEEKDAY(DATE(Daten!$B$1,9,Kalender!G56)),\"So\",\"Mo\",\"Di\",\"Mi\",\"Do\",\"Fr\",\"Sa\")","v":"Di"},null,22,{"$f":"CHOOSE(WEEKDAY(DATE(Daten!$B$1,10,Kalender!J56)),\"So\",\"Mo\",\"Di\",\"Mi\",\"Do\",\"Fr\",\"Sa\")","v":"Do"},null,22,{"$f":"CHOOSE(WEEKDAY(DATE(Daten!$B$1,11,Kalender!M56)),\"So\",\"Mo\",\"Di\",\"Mi\",\"Do\",\"Fr\",\"Sa\")","v":"So"},"Totensonntag",22,{"$f":"CHOOSE(WEEKDAY(DATE(Daten!$B$1,12,Kalender!P56)),\"So\",\"Mo\",\"Di\",\"Mi\",\"Do\",\"Fr\",\"Sa\")","v":"Di"}]
[23,{"$f":"CHOOSE(WEEKDAY(DATE(Daten!$B$1,7,Kalender!A57)),\"So\",\"Mo\",\"Di\",\"Mi\",\"Do\",\"Fr\",\"Sa\")","v":"Do"},null,23,{"$f":"CHOOSE(WEEKDAY(DATE(Daten!$B$1,8,Kalender!D57)),\"So\",\"Mo\",\"Di\",\"Mi\",\"Do\",\"Fr\",\"Sa\")","v":"So"},null,23,{"$f":"CHOOSE(WEEKDAY(DATE(Daten!$B$1,9,Kalender!G57)),\"So\",\"Mo\",\"Di\",\"Mi\",\"Do\",\"Fr\",\"Sa\")","v":"Mi"},null,23,{"$f":"CHOOSE(WEEKDAY(DATE(Daten!$B$1,10,Kalender!J57)),\"So\",\"Mo\",\"Di\",\"Mi\",\"Do\",\"Fr\",\"Sa\")","v":"Fr"},null,23,{"$f":"CHOOSE(WEEKDAY(DATE(Daten!$B$1,11,Kalender!M57)),\"So\",\"Mo\",\"Di\",\"Mi\",\"Do\",\"Fr\",\"Sa\")","v":"Mo"},"KW48",23,{"$f":"CHOOSE(WEEKDAY(DATE(Daten!$B$1,12,Kalender!P57)),\"So\",\"Mo\",\"Di\",\"Mi\",\"Do\",\"Fr\",\"Sa\")","v":"Mi"}]
[24,{"$f":"CHOOSE(WEEKDAY(DATE(Daten!$B$1,7,Kalender!A58)),\"So\",\"Mo\",\"Di\",\"Mi\",\"Do\",\"Fr\",\"Sa\")","v":"Fr"},null,24,{"$f":"CHOOSE(WEEKDAY(DATE(Daten!$B$1,8,Kalender!D58)),\"So\",\"Mo\",\"Di\",\"Mi\",\"Do\",\"Fr\",\"Sa\")","v":"Mo"},"KW35",24,{"$f":"CHOOSE(WEEKDAY(DATE(Daten!$B$1,9,Kalender!G58)),\"So\",\"Mo\",\"Di\",\"Mi\",\"Do\",\"Fr\",\"Sa\")","v":"Do"},null,24,{"$f":"CHOOSE(WEEKDAY(DATE(Daten!$B$1,10,Kalender!J58)),\"So\",\"Mo\",\"Di\",\"Mi\",\"Do\",\"Fr\",\"Sa\")","v":"Sa"},null,24,{"$f":"CHOOSE(WEEKDAY(DATE(Daten!$B$1,11,Kalender!M58)),\"So\",\"Mo\",\"Di\",\"Mi\",\"Do\",\"Fr\",\"Sa\")","v":"Di"},null,24,{"$f":"CHOOSE(WEEKDAY(DATE(Daten!$B$1,12,Kalender!P58)),\"So\",\"Mo\",\"Di\",\"Mi\",\"Do\",\"Fr\",\"Sa\")","v":"Do"},"Heiligabend"]
[25,{"$f":"CHOOSE(WEEKDAY(DATE(Daten!$B$1,7,Kalender!A59)),\"So\",\"Mo\",\"Di\",\"Mi\",\"Do\",\"Fr\",\"Sa\")","v":"Sa"},null,25,{"$f":"CHOOSE(WEEKDAY(DATE(Daten!$B$1,8,Kalender!D59)),\"So\",\"Mo\",\"Di\",\"Mi\",\"Do\",\"Fr\",\"Sa\")","v":"Di"},null,25,{"$f":"CHOOSE(WEEKDAY(DATE(Daten!$B$1,9,Kalender!G59)),\"So\",\"Mo\",\"Di\",\"Mi\",\"Do\",\"Fr\",\"Sa\")","v":"Fr"},null,25,{"$f":"CHOOSE(WEEKDAY(DATE(Daten!$B$1,10,Kalender!J59)),\"So\",\"Mo\",\"Di\",\"Mi\",\"Do\",\"Fr\",\"Sa\")","v":"So"},null,25,{"$f":"CHOOSE(WEEKDAY(DATE(Daten!$B$1,11,Kalender!M59)),\"So\",\"Mo\",\"Di\",\"Mi\",\"Do\",\"Fr\",\"Sa\")","v":"Mi"},null,25,{"$f":"CHOOSE(WEEKDAY(DATE(Daten!$B$1,12,Kalender!P59)),\"So\",\"Mo\",\"Di\",\"Mi\",\"Do\",\"Fr\",\"Sa\")","v":"Fr"},"1. Weihnachtstag"]
[26,{"$f":"CHOOSE(WEEKDAY(DATE(Daten!$B$1,7,Kalender!A60)),\"So\",\"Mo\",\"Di\",\"Mi\",\"Do\",\"Fr\",\"Sa\")","v":"So"},null,26,{"$f":"CHOOSE(WEEKDAY(DATE(Daten!$B$1,8,Kalender!D60)),\"So\",\"Mo\",\"Di\",\"Mi\",\"Do\",\"Fr\",\"Sa\")","v":"Mi"},null,26,{"$f":"CHOOSE(WEEKDAY(DATE(Daten!$B$1,9,Kalender!G60)),\"So\",\"Mo\",\"Di\",\"Mi\",\"Do\",\"Fr\",\"Sa\")","v":"Sa"},null,26,{"$f":"CHOOSE(WEEKDAY(DATE(Daten!$B$1,10,Kalender!J60)),\"So\",\"Mo\",\"Di\",\"Mi\",\"Do\",\"Fr\",\"Sa\")","v":"Mo"},"KW44",26,{"$f":"CHOOSE(WEEKDAY(DATE(Daten!$B$1,11,Kalender!M60)),\"So\",\"Mo\",\"Di\",\"Mi\",\"Do\",\"Fr\",\"Sa\")","v":"Do"},null,26,{"$f":"CHOOSE(WEEKDAY(DATE(Daten!$B$1,12,Kalender!P60)),\"So\",\"Mo\",\"Di\",\"Mi\",\"Do\",\"Fr\",\"Sa\")","v":"Sa"},"2. Weihnachtstag"]
[27,{"$f":"CHOOSE(WEEKDAY(DATE(Daten!$B$1,7,Kalender!A61)),\"So\",\"Mo\",\"Di\",\"Mi\",\"Do\",\"Fr\",\"Sa\")","v":"Mo"},"KW31",27,{"$f":"CHOOSE(WEEKDAY(DATE(Daten!$B$1,8,Kalender!D61)),\"So\",\"Mo\",\"Di\",\"Mi\",\"Do\",\"Fr\",\"Sa\")","v":"Do"},null,27,{"$f":"CHOOSE(WEEKDAY(DATE(Daten!$B$1,9,Kalender!G61)),\"So\",\"Mo\",\"Di\",\"Mi\",\"Do\",\"Fr\",\"Sa\")","v":"So"},null,27,{"$f":"CHOOSE(WEEKDAY(DATE(Daten!$B$1,10,Kalender!J61)),\"So\",\"Mo\",\"Di\",\"Mi\",\"Do\",\"Fr\",\"Sa\")","v":"Di"},null,27,{"$f":"CHOOSE(WEEKDAY(DATE(Daten!$B$1,11,Kalender!M61)),\"So\",\"Mo\",\"Di\",\"Mi\",\"Do\",\"Fr\",\"Sa\")","v":"Fr"},null,27,{"$f":"CHOOSE(WEEKDAY(DATE(Daten!$B$1,12,Kalender!P61)),\"So\",\"Mo\",\"Di\",\"Mi\",\"Do\",\"Fr\",\"Sa\")","v":"So"}]
[28,{"$f":"CHOOSE(WEEKDAY(DATE(Daten!$B$1,7,Kalender!A62)),\"So\",\"Mo\",\"Di\",\"Mi\",\"Do\",\"Fr\",\"Sa\")","v":"Di"},null,28,{"$f":"CHOOSE(WEEKDAY(DATE(Daten!$B$1,8,Kalender!D62)),\"So\",\"Mo\",\"Di\",\"Mi\",\"Do\",\"Fr\",\"Sa\")","v":"Fr"},null,28,{"$f":"CHOOSE(WEEKDAY(DATE(Daten!$B$1,9,Kalender!G62)),\"So\",\"Mo\",\"Di\",\"Mi\",\"Do\",\"Fr\",\"Sa\")","v":"Mo"},"KW40",28,{"$f":"CHOOSE(WEEKDAY(DATE(Daten!$B$1,10,Kalender!J62)),\"So\",\"Mo\",\"Di\",\"Mi\",\"Do\",\"Fr\",\"Sa\")","v":"Mi"},null,28,{"$f":"CHOOSE(WEEKDAY(DATE(Daten!$B$1,11,Kalender!M62)),\"So\",\"Mo\",\"Di\",\"Mi\",\"Do\",\"Fr\",\"Sa\")","v":"Sa"},null,28,{"$f":"CHOOSE(WEEKDAY(DATE(Daten!$B$1,12,Kalender!P62)),\"So\",\"Mo\",\"Di\",\"Mi\",\"Do\",\"Fr\",\"Sa\")","v":"Mo"},"KW53"]
[29,{"$f":"CHOOSE(WEEKDAY(DATE(Daten!$B$1,7,Kalender!A63)),\"So\",\"Mo\",\"Di\",\"Mi\",\"Do\",\"Fr\",\"Sa\")","v":"Mi"},null,29,{"$f":"CHOOSE(WEEKDAY(DATE(Daten!$B$1,8,Kalender!D63)),\"So\",\"Mo\",\"Di\",\"Mi\",\"Do\",\"Fr\",\"Sa\")","v":"Sa"},null,29,{"$f":"CHOOSE(WEEKDAY(DATE(Daten!$B$1,9,Kalender!G63)),\"So\",\"Mo\",\"Di\",\"Mi\",\"Do\",\"Fr\",\"Sa\")","v":"Di"},null,29,{"$f":"CHOOSE(WEEKDAY(DATE(Daten!$B$1,10,Kalender!J63)),\"So\",\"Mo\",\"Di\",\"Mi\",\"Do\",\"Fr\",\"Sa\")","v":"Do"},null,29,{"$f":"CHOOSE(WEEKDAY(DATE(Daten!$B$1,11,Kalender!M63)),\"So\",\"Mo\",\"Di\",\"Mi\",\"Do\",\"Fr\",\"Sa\")","v":"So"},"1. Advent",29,{"$f":"CHOOSE(WEEKDAY(DATE(Daten!$B$1,12,Kalender!P63)),\"So\",\"Mo\",\"Di\",\"Mi\",\"Do\",\"Fr\",\"Sa\")","v":"Di"}]
[30,{"$f":"CHOOSE(WEEKDAY(DATE(Daten!$B$1,7,Kalender!A64)),\"So\",\"Mo\",\"Di\",\"Mi\",\"Do\",\"Fr\",\"Sa\")","v":"Do"},null,30,{"$f":"CHOOSE(WEEKDAY(DATE(Daten!$B$1,8,Kalender!D64)),\"So\",\"Mo\",\"Di\",\"Mi\",\"Do\",\"Fr\",\"Sa\")","v":"So"},null,30,{"$f":"CHOOSE(WEEKDAY(DATE(Daten!$B$1,9,Kalender!G64)),\"So\",\"Mo\",\"Di\",\"Mi\",\"Do\",\"Fr\",\"Sa\")","v":"Mi"},null,30,{"$f":"CHOOSE(WEEKDAY(DATE(Daten!$B$1,10,Kalender!J64)),\"So\",\"Mo\",\"Di\",\"Mi\",\"Do\",\"Fr\",\"Sa\")","v":"Fr"},null,30,{"$f":"CHOOSE(WEEKDAY(DATE(Daten!$B$1,11,Kalender!M64)),\"So\",\"Mo\",\"Di\",\"Mi\",\"Do\",\"Fr\",\"Sa\")","v":"Mo"},"KW49",30,{"$f":"CHOOSE(WEEKDAY(DATE(Daten!$B$1,12,Kalender!P64)),\"So\",\"Mo\",\"Di\",\"Mi\",\"Do\",\"Fr\",\"Sa\")","v":"Mi"}]
[31,{"$f":"CHOOSE(WEEKDAY(DATE(Daten!$B$1,7,Kalender!A65)),\"So\",\"Mo\",\"Di\",\"Mi\",\"Do\",\"Fr\",\"Sa\")","v":"Fr"},null,31,{"$f":"CHOOSE(WEEKDAY(DATE(Daten!$B$1,8,Kalender!D65)),\"So\",\"Mo\",\"Di\",\"Mi\",\"Do\",\"Fr\",\"Sa\")","v":"Mo"},"KW36",null,null,null,31,{"$f":"CHOOSE(WEEKDAY(DATE(Daten!$B$1,10,Kalender!J65)),\"So\",\"Mo\",\"Di\",\"Mi\",\"Do\",\"Fr\",\"Sa\")","v":"Sa"},"Reformationstag",null,null,null,31,{"$f":"CHOOSE(WEEKDAY(DATE(Daten!$B$1,12,Kalender!P65)),\"So\",\"Mo\",\"Di\",\"Mi\",\"Do\",\"Fr\",\"Sa\")","v":"Do"},"Silvester"]
["23 Arbeitstage",null,null,"21 Arbeitstage",null,null,"22 Arbeitstage",null,null,"22 Arbeitstage",null,null,"21 Arbeitstage",null,null,"22 Arbeitstage"]

{"sheet":"Daten","index":1,"n_rows":53,"n_cols":7,"rows_kept":53,"cut":false,"hidden":false,"merged":[[8,6,8,13],[9,6,9,13],[10,6,10,13],[24,3,33,3],[14,3,23,3],[3,3,13,3],[6,6,6,13],[15,6,15,13],[11,6,11,13],[12,6,12,13],[13,6,13,13],[14,6,14,13],[7,6,7,13],[0,6,0,13],[2,6,2,13],[3,6,3,13],[4,6,4,13],[5,6,5,13],[1,6,1,13]]}
["Jahr:",2026,null,null,null,"Arbeitstage: 253","Anleitung:"]
[]
["Datum","Bezeichnung","Farbe","Typ",null,null,"Um einen neuen Kalender zu erstellen, wird in Zelle 'B1' das Jahr eingetragen (wechselpfeil)und das 'START'-Button angewählt."]
[{"$f":"TEXT(IF($E$8-31 < 1,$E$8,$E$8-31),\"0#\")&\".\"&IF($E$8 > 31,\"04.\",\"03.\")&$B$1","v":"05.04.2026"},"Ostersonntag","R","Abhängig von Ostern",{"$f":"INT($B$1/100)","v":20},null,"Es erfolgt eine Abfrage, ob ein neuer Kalender erstellt werden soll, da alle manuellen Einträge im Kalender"]
[{"$f":"IF($A$12=$A$33+14-(WEEKDAY($A$33,2)),-7,0)+$A$33+14-(WEEKDAY($A$33,2))","v":"2026-05-10"},"Muttertag","G",null,null,null,"gelöscht werden. Anschließend wird nebenstehende Liste abgearbeitet, bis das Listenende erreicht wird."]
[{"$f":"$A$4-52","v":"2026-02-12"},"Weiberfasnacht","G",null,{"$f":"MOD(19*MOD($B$1,19)+$E$4-INT($E$4/4)-INT(($E$4-INT(($E$4+8)/25)+1)/3)+15,30)","v":12},null,"Da die gesetzlichen Feiertage in den Bundesländern differieren, müssen mit der Farbe 'R' (rot) in Spalte 'C' die"]
[{"$f":"$A$4-48","v":"2026-02-16"},"Rosenmontag","G",null,{"$f":"MOD(32+2*MOD($E$4,4)+2*INT(MOD($B$1,100)/4)-$E$6-MOD(MOD($B$1,100),4),7)","v":2},null,"Feiertage vorgegeben werden. Alle anderen 'Ereignisse' werden mit 'G' (grün) versehen. Bei der Berechnung der"]
[{"$f":"$A$4-46","v":"2026-02-18"},"Aschermittwoch","G",null,{"$f":"$E$6+$E$7-7*INT((MOD($B$1,19)+11*$E$6+22*$E$7)/451)+22","v":36},null,"Arbeitstage werden die rot eingefärbten Feiertage dann nicht berücksichtigt."]
[{"$f":"$A$4-2","v":"2026-04-03"},"Karfreitag","R"]
[{"$f":"$A$4+1","v":"2026-04-06"},"Ostermontag","R",null,null,null,"Ab Zeile '34' können weitere Ereignisse aufgelistet werden (z.B. Geburtstage), die jedes Jahr am gleichen Tag"]
[{"$f":"$A$4+39","v":"2026-05-14"},"Christi Himmelfahrt","R",null,null,null,"stattfinden. In Spalte 'B' wird die Zeichenkette für den Kalendereintrag eingegeben. Der Eintrag erfolgt in Farbe blau."]
[{"$f":"$A$4+49","v":"2026-05-24"},"Pfingstsonntag","R",null,null,null,"Finden am selben Tag mehrere Ereignisse statt, können diese im Kalendereintrag zusammengefasst werden,"]
[{"$f":"$A$4+50","v":"2026-05-25"},"Pfingstmontag","R",null,null,null,"oder einzeln aufgeführt werden. Es erfolgt automatisch eine Trennung mit Komma. Die Jahreszahl wird zusätzlich"]
[{"$f":"$A$4+60","v":"2026-06-04"},"Fronleichnam","R",null,null,null,"in der Kopfzeile der Seite eingetragen."]
[{"$f":"DATE($B$1,12,25)-WEEKDAY(DATE($B$1,12,25),2)-35","v":"2026-11-15"},"Volkstrauertag","G","Abhängig von Weihnachten"]
[{"$f":"DATE($B$1,12,25)-WEEKDAY(DATE($B$1,12,25),2)-32","v":"2026-11-18"},"Buss- u. Bettag","G",null,null,null,"Wurde der Kalender erstellt, wird das Ergebnis angezeigt und es können nun manuell Termine eingegeben werden."]
[{"$f":"DATE($B$1,12,25)-WEEKDAY(DATE($B$1,12,25),2)-28","v":"2026-11-22"},"Totensonntag","G"]
[{"$f":"DATE($B$1,12,25)-WEEKDAY(DATE($B$1,12,25),2)-21","v":"2026-11-29"},"1. Advent","G"]
[{"$f":"DATE($B$1,12,25)-WEEKDAY(DATE($B$1,12,25),2)-14","v":"2026-12-06"},"2. Advent","G"]
[{"$f":"DATE($B$1,12,25)-WEEKDAY(DATE($B$1,12,25),2)-7","v":"2026-12-13"},"3. Advent","G"]
[{"$f":"DATE($B$1,12,25)-WEEKDAY(DATE($B$1,12,25),2)","v":"2026-12-20"},"4. Advent","G"]
[{"$f":"DATE($B$1,12,24)","v":"2026-12-24"},"Heiligabend","G"]
[{"$f":"DATE($B$1,12,25)","v":"2026-12-25"},"1. Weihnachtstag","R"]
[{"$f":"DATE($B$1,12,26)","v":"2026-12-26"},"2. Weihnachtstag","R"]
[{"$f":"DATE($B$1,1,1)","v":"2026-01-01"},"Neujahr","R","Sonst."]
[{"$f":"DATE($B$1,1,6)","v":"2026-01-06"},"Heilige Drei Könige","G"]
[{"$f":"DATE($B$1,8,8)","v":"2026-08-08"},"Friedenstag","G"]
[{"$f":"DATE($B$1,8,15)","v":"2026-08-15"},"Maria Himmelfahrt","G"]
[{"$f":"DATE($B$1,10,3)","v":"2026-10-03"},"Tag der dt. Einheit","R"]
[{"$f":"DATE($B$1,10,31)","v":"2026-10-31"},"Reformationstag","G"]
[{"$f":"DATE($B$1,11,1)","v":"2026-11-01"},"Allerheiligen","R"]
[{"$f":"DATE($B$1,8,1)","v":"2026-08-01"},"Nationalfeiertag","R"]
[{"$f":"DATE($B$1,5,1)","v":"2026-05-01"},"Maifeiertag","R"]
[{"$f":"DATE($B$1,12,31)","v":"2026-12-31"},"Silvester","G",null,{"$f":"YEAR(B35)","v":{"$error":"#VALUE!"}}]
["1983-11-03",{"$f":"\"Matthias B. (\"&D35&\")\"","v":"Matthias B. (43)"},null,{"$f":"$B$1-YEAR(A35)","v":43},null,null,"=\"Matthias B. (\"&D35&\")\""]
["1956-05-03",{"$f":"\"Martin B. (\"&D36&\")\"","v":"Martin B. (70)"},null,{"$f":"$B$1-YEAR(A36)","v":70}]
["1960-10-19",{"$f":"\"Gaby B.  (\"&D37&\")\"","v":"Gaby B.  (66)"},null,66]
["1981-03-06",{"$f":"\"Marco B. (\"&D38&\")\"","v":"Marco B. (45)"},null,45]
["2016-01-18",{"$f":"\"Mila B. (\"&D39&\")\"","v":"Mila B. (10)"},null,10]
["2018-06-27",{"$f":"\"Timo B. (\"&D40&\")\"","v":"Timo B. (8)"},null,8]
[null,null,null,126]
[null,null,null,126]
[null,null,null,126]
[null,null,null,126]
[null,null,null,126]
[null,null,null,126]
[null,null,null,126]
[null,null,null,126]
[null,null,null,126]
[null,null,null,126]
[null,null,null,126]
[null,null,null,126]
[null,null,null,126]